BEGIN:VCALENDAR
VERSION:2.0
PRODID:-//Be Connected - ECPv6.15.20//NONSGML v1.0//EN
CALSCALE:GREGORIAN
METHOD:PUBLISH
X-WR-CALNAME:Be Connected
X-ORIGINAL-URL:https://connectveterans.org
X-WR-CALDESC:Events for Be Connected
REFRESH-INTERVAL;VALUE=DURATION:PT1H
X-Robots-Tag:noindex
X-PUBLISHED-TTL:PT1H
BEGIN:VTIMEZONE
TZID:America/Phoenix
BEGIN:STANDARD
TZOFFSETFROM:-0700
TZOFFSETTO:-0700
TZNAME:MST
DTSTART:20230101T000000
END:STANDARD
END:VTIMEZONE
BEGIN:VEVENT
DTSTART;TZID=America/Phoenix:20241008T120000
DTEND;TZID=America/Phoenix:20241008T133000
DTSTAMP:20260422T055810
CREATED:20240818T180711Z
LAST-MODIFIED:20240818T181211Z
UID:13377-1728388800-1728394200@connectveterans.org
SUMMARY:Women Veterans Military Sexual Trauma (MST) Focus Group
DESCRIPTION:Women Veterans Military Sexual Trauma (MST) Focus Group \nDate: Tuesday\, October 8\, 2024 \nTime: 12:00 PM – 1:30 PM \nEVENT FLYER \nLocation:\nPhoenix 32nd St. VA Clinic\n2nd Floor\, Room 2A108\n400 N. 32nd St.\, Phoenix\, AZ 85008\nOr join via VA Video Connect \nDetails:\nAttention Women Veterans! Your experiences matter. Join the VA for a special focus group hosted by the Women Veterans Program and Dr. Alexandrova\, MST Coordinator\, to share your experiences using Military Sexual Trauma (MST) services within the Phoenix VA Health Care System. After the focus group\, you will have the opportunity to learn how to start\, increase\, or reopen an MST claim that was previously denied. \nRSVP:\nPlease RSVP to participate.\nContact: Megan Giblin\, LCSW\, Assistant Women Veterans Program Manager\nPhone: 602-277-5551 Ext. 1538
URL:https://connectveterans.org/event/women-veterans-military-sexual-trauma-mst-focus-group-2/
CATEGORIES:Partner Event
ATTACH;FMTTYPE=image/png:https://connectveterans.org/wp-content/uploads/2024/08/Women-Veterans-Thumb.png
END:VEVENT
END:VCALENDAR