BEGIN:VCALENDAR
VERSION:2.0
PRODID:-//Be Connected - ECPv6.15.20//NONSGML v1.0//EN
CALSCALE:GREGORIAN
METHOD:PUBLISH
X-ORIGINAL-URL:https://connectveterans.org
X-WR-CALDESC:Events for Be Connected
REFRESH-INTERVAL;VALUE=DURATION:PT1H
X-Robots-Tag:noindex
X-PUBLISHED-TTL:PT1H
BEGIN:VTIMEZONE
TZID:America/Phoenix
BEGIN:STANDARD
TZOFFSETFROM:-0700
TZOFFSETTO:-0700
TZNAME:MST
DTSTART:20240101T000000
END:STANDARD
END:VTIMEZONE
BEGIN:VEVENT
DTSTART;VALUE=DATE:20250901
DTEND;VALUE=DATE:20250924
DTSTAMP:20260422T100229
CREATED:20240505T202458Z
LAST-MODIFIED:20240505T202458Z
UID:11125-1756684800-1758671999@connectveterans.org
SUMMARY:Coaching into Connection
DESCRIPTION:Coaching into Connection Services Available for AZ Service Members\, Veterans & Their Families \nIf you’re a service member\, veteran\, or military family member in Arizona\, the Be Connected Coaching into Connection program is here to help you enhance your social connections. Our experienced Connection Coaches\, who are veterans living right here in Arizona\, can help. They offer personalized support to get you connected with your community and find meaningful activities. Services are offered at no cost and are available statewide. Remember\, we’re here to support you. \n\nDownload the Flyer\nGet Started: Fill Out This Form\nWatch the Video\n\nLearn more at www.ConnectVeterans.org/Connection \nHave Questions? Call 866-4AZ-VETS (866-429-8387) or email riskreduction@arizonacoalition.org
URL:https://connectveterans.org/event/coaching-into-connection-21/
LOCATION:AZ
ATTACH;FMTTYPE=image/png:https://connectveterans.org/wp-content/uploads/2024/05/CIC-Veterans.png
END:VEVENT
BEGIN:VEVENT
DTSTART;TZID=America/Phoenix:20250912T090000
DTEND;TZID=America/Phoenix:20250912T140000
DTSTAMP:20260422T100229
CREATED:20250827T180320Z
LAST-MODIFIED:20250827T180348Z
UID:18232-1757667600-1757685600@connectveterans.org
SUMMARY:Sunsites-Pearce Veteran Community Connect
DESCRIPTION:Sunsites-Pearce Veteran Community Connect \nDate & Time:\nFriday\, September 12\, 2025\n9 a.m. – 2 p.m.\nOpening Ceremony at 9:00 a.m. \nVIEW THE FLYER \nLocation:\nVFW Post 9977\n114 N. Ford Street\, Pearce\, AZ \nEvent Details:\nJoin us for a day dedicated to connecting veterans\, service members\, families\, and community members with valuable resources and support. The Sunsites-Pearce Veteran Community Connect brings together trusted partners and services in one place to make access simple\, welcoming\, and free. \nEnjoy a full day of benefits and activities including: \n\nPersonal Care Services: haircuts\, hygiene\, and wellness support\nPractical Help: legal assistance\, housing\, employment\, and mental health resources\nFamily-Friendly Offerings: kid goodies\, pet services\, and community connections\nBasic Needs: food pantry support\, plus free breakfast and lunch provided\n\n Transportation is available to ensure everyone can attend. \n Why Attend:\nThis event is designed to connect you and your family with the help\, support\, and community you deserve. Whether you need information on veteran benefits\, a fresh haircut\, or just want to enjoy a good meal with neighbors\, this is your chance to find it all in one place. \n Admission:\nFree and open to all veterans\, service members\, families\, and community supporters.
URL:https://connectveterans.org/event/spconnect/
LOCATION:VFW Post 9977\, 114 N. Ford Street\, Pearce\, AZ
CATEGORIES:Partner Event
ATTACH;FMTTYPE=image/png:https://connectveterans.org/wp-content/uploads/2025/08/Thumb-Sunsites-Pearce-VFW-Event.webp
END:VEVENT
END:VCALENDAR