BEGIN:VCALENDAR
VERSION:2.0
PRODID:-//Be Connected - ECPv6.15.20//NONSGML v1.0//EN
CALSCALE:GREGORIAN
METHOD:PUBLISH
X-ORIGINAL-URL:https://connectveterans.org
X-WR-CALDESC:Events for Be Connected
REFRESH-INTERVAL;VALUE=DURATION:PT1H
X-Robots-Tag:noindex
X-PUBLISHED-TTL:PT1H
BEGIN:VTIMEZONE
TZID:America/Phoenix
BEGIN:STANDARD
TZOFFSETFROM:-0700
TZOFFSETTO:-0700
TZNAME:MST
DTSTART:20230101T000000
END:STANDARD
END:VTIMEZONE
BEGIN:VEVENT
DTSTART;VALUE=DATE:20240301
DTEND;VALUE=DATE:20240401
DTSTAMP:20260423T023945
CREATED:20230117T073144Z
LAST-MODIFIED:20230206T044101Z
UID:7910-1709251200-1711929599@connectveterans.org
SUMMARY:Community Helper Training
DESCRIPTION:Become a Pillar of Support in Your Community \nWe invite you to join us for the Be Connected Community Corps training series. This self-paced virtual training is offered at no cost to any Arizonan interested in becoming a source of support for service members\, veterans\, and their families. You can enroll and start this training series at any time! \n  \nMake a Difference \nBy taking the Be Connected Community Corps Helper Training\, you can strengthen your ability to give back to all who are serving and have served our country. As a trained Be Connected Community Corps Helper\, you will be a guidepost for service members\, veterans\, and their families in your neighborhood\, helping to make them feel connected and cared for. As a Community Helper\, you will be equipped with the knowledge\, skills\, and confidence to make a difference in the lives of Arizona’s military and veteran community. \n  \nAbout the Training  \nThe training series consists of 10 modules that relate to the Social Determinants of Health. Each module includes a video full of helpful information as well as a handout with key points and space to take your own notes. There will be an opportunity to ask questions and engage with our moderator and other course participants in the online community. At the conclusion of the training series\, you will earn the Be Connected Community Corps Certificate and be connected to a wide variety of opportunities to serve Arizona’s service members\, veterans\, and their families. \nLearn more about the Be Connected Community Corps Community Helper training series at www.ConnectVeterans.org/BCCCHelper \nSign up now at https://bit.ly/BCCCHelper \n 
URL:https://connectveterans.org/event/community-helper-training-2/
LOCATION:AZ
CATEGORIES:BCCC
ATTACH;FMTTYPE=image/png:https://connectveterans.org/wp-content/uploads/2023/01/BCCC-Helper-Thumb-2.png
END:VEVENT
BEGIN:VEVENT
DTSTART;VALUE=DATE:20240301
DTEND;VALUE=DATE:20240401
DTSTAMP:20260423T023945
CREATED:20240114T020012Z
LAST-MODIFIED:20240114T020237Z
UID:10186-1709251200-1711929599@connectveterans.org
SUMMARY:Coaching Into Connection
DESCRIPTION:Coaching into Connection Services Available for AZ Service Members\, Veterans & Their Families\nIf you’re a service member\, veteran\, or military family member in Arizona\, the Be Connected Coaching into Connection program is here to help you enhance your social connections. Our experienced Connection Coaches\, who are veterans living right here in Arizona\, can help. They offer personalized support to get you connected with your community and find meaningful activities. Services are offered at no cost and are available statewide. Remember\, we’re here to support you. \nDownload the Flyer \nGet Started: Fill Out This Form \nLearn more at www.ConnectVeterans.org/Connection \nHave Questions? Call 866-4AZ-VETS (866-429-8387) or email riskreduction@arizonacoalition.org
URL:https://connectveterans.org/event/coaching-into-connection-3/
LOCATION:AZ
ATTACH;FMTTYPE=image/png:https://connectveterans.org/wp-content/uploads/2024/01/CIC.png
END:VEVENT
BEGIN:VEVENT
DTSTART;TZID=America/Phoenix:20240301T100000
DTEND;TZID=America/Phoenix:20240301T140000
DTSTAMP:20260423T023945
CREATED:20240217T192806Z
LAST-MODIFIED:20240217T192806Z
UID:10448-1709287200-1709301600@connectveterans.org
SUMMARY:Bullhead City StandDown
DESCRIPTION:Bullhead City StandDown\nFriday\, March 1\, 2024 \n10 am to 2 pm  \nBullhead Chamber of Commerce\n1251 Highway 95\nBullhead City\, AZ 86429 \nFor more information\, please contact events@javc.org \nVeteran StandDown events are a fantastic way for veterans to access a variety of resources all in one place. Veterans are encouraged to attend and connect with other veterans\, community leaders\, and helpful resources. \nVeteran StandDown events typically offer resources related to: \n\nEmployment resources\nHealthcare and mental wellness\nHousing resources\nLegal resources\nPet services\nVA benefits
URL:https://connectveterans.org/event/bullhead-city-standdown/
LOCATION:Bullhead Chamber of Commerce\, 1251 Highway 95\, Bullhead City\, AZ\, 86429
CATEGORIES:StandDown
ATTACH;FMTTYPE=image/png:https://connectveterans.org/wp-content/uploads/2024/02/Vet-Stand-Down-Calendar-Icon-1.png
END:VEVENT
BEGIN:VEVENT
DTSTART;TZID=America/Phoenix:20240302T090000
DTEND;TZID=America/Phoenix:20240302T130000
DTSTAMP:20260423T023945
CREATED:20240112T033439Z
LAST-MODIFIED:20240112T033706Z
UID:10149-1709370000-1709384400@connectveterans.org
SUMMARY:Family Hope Fest
DESCRIPTION:Date: Saturday\, March 2nd\, 2024 \nTime: 9:00 AM – 1:00 PM \nLocation: Summit Community Church\, 20555 W Roosevelt St\, Buckeye \nJoin in a day filled with family fun and community service at the Family Hope Fest! This event welcomes all ages to engage in activities that strengthen our community. Enjoy bounce houses\, check out police and fire vehicles\, explore local vendors\, and savor delicious food from food trucks. Participate in the bed build service project with Sleep in Heavenly Peace and support our local veterans through the Veteran Lift Up event. Admission is free\, and there are opportunities to volunteer\, sponsor\, and showcase your business as a vendor. Don’t forget to bring your donations of new twin sheets\, blankets\, pillows\, children’s bibles\, and stuffed animals.
URL:https://connectveterans.org/event/family-hope-fest/
LOCATION:Summit Community Church\, 20555 W Roosevelt St\, Buckeye
CATEGORIES:Partner Event
ATTACH;FMTTYPE=image/png:https://connectveterans.org/wp-content/uploads/2024/01/Family-Hope-Fest-1.png
END:VEVENT
BEGIN:VEVENT
DTSTART;VALUE=DATE:20240313
DTEND;VALUE=DATE:20240314
DTSTAMP:20260423T023945
CREATED:20230227T060031Z
LAST-MODIFIED:20230227T060031Z
UID:8333-1710288000-1710374399@connectveterans.org
SUMMARY:K-9 Veterans Day
DESCRIPTION:K-9 Veterans Day is observed annually on March 13 to honor the service and sacrifices of military working dogs and their handlers. The day commemorates the first official use of dogs in the U.S. military during World War II. Today\, dogs continue to play an essential role in the military\, serving in a variety of functions including detection\, patrol\, and search and rescue. K-9 Veterans Day is an opportunity to acknowledge and show appreciation for the dedication\, loyalty\, and bravery of these furry heroes who have helped to protect and defend our country. It is also a day to honor the special bond between military working dogs and their handlers\, who often develop a deep and unbreakable connection as they work together in dangerous and high-pressure situations.
URL:https://connectveterans.org/event/k-9-veterans-day-2/
LOCATION:AZ
CATEGORIES:Holiday
END:VEVENT
BEGIN:VEVENT
DTSTART;TZID=America/Phoenix:20240313T090000
DTEND;TZID=America/Phoenix:20240314T150000
DTSTAMP:20260423T023945
CREATED:20240217T194524Z
LAST-MODIFIED:20240217T201156Z
UID:10451-1710320400-1710428400@connectveterans.org
SUMMARY:Tucson Veteran StandDown and Career Fair
DESCRIPTION:Tucson Veteran StandDown and Career Fair\nStandDown: Wednesday\, March 13\, 2024 from 9 am – 3 pm \nCareer Fair: Thursday\, March 14\, 2024 from 10 am – 3 pm \nRamada Inn \n777 W. Cushing St. \nTucson\, AZ 85745 \nEVENT FLYER \n\nThis event is open to ALL veterans\, National Guard\, and Reservists in the area.\nFor the career fair\, bring extra copies of your resume and dress in business casual attire.\nFind assistance with clothing\, haircuts\, housing\, legal assistance\, mental health services\, spiritual counseling\, employment\, disability claims\, benefits\, pet care\, and much more.\nLunch will be served.\nFor more information\, call 623.687.5552 or email tucsonvetsservingvets@gmail.com\n\nVeteran StandDown events are a fantastic way for veterans to access a variety of resources all in one place. Veterans are encouraged to attend and connect with other veterans\, community leaders\, and helpful resources. \nVeteran StandDown events typically offer resources related to: \n\nEmployment resources\nHealthcare and mental wellness\nHousing resources\nLegal resources\nPet services\nVA benefits
URL:https://connectveterans.org/event/10451/
LOCATION:AZ
CATEGORIES:StandDown
ATTACH;FMTTYPE=image/png:https://connectveterans.org/wp-content/uploads/2024/02/Vet-Stand-Down-Calendar-Icon-1.png
END:VEVENT
BEGIN:VEVENT
DTSTART;VALUE=DATE:20240315
DTEND;VALUE=DATE:20240316
DTSTAMP:20260423T023945
CREATED:20230227T060706Z
LAST-MODIFIED:20230227T060706Z
UID:8339-1710460800-1710547199@connectveterans.org
SUMMARY:American Legion Birthday
DESCRIPTION:The American Legion is a nonpartisan organization of U.S. wartime veterans that was founded in 1919. Its mission is to support and advocate for veterans\, promote patriotism and national security\, and support youth and community programs. Over the years\, the American Legion has been instrumental in advocating for veterans’ benefits and services\, including the GI Bill\, and has provided support for veterans and their families through a variety of programs and initiatives.
URL:https://connectveterans.org/event/american-legion-birthday-2/
LOCATION:AZ
CATEGORIES:Holiday
END:VEVENT
BEGIN:VEVENT
DTSTART;TZID=America/Phoenix:20240315T090000
DTEND;TZID=America/Phoenix:20240315T150000
DTSTAMP:20260423T023945
CREATED:20240217T195643Z
LAST-MODIFIED:20240217T195656Z
UID:10461-1710493200-1710514800@connectveterans.org
SUMMARY:Parker StandDown
DESCRIPTION:Parker StandDown\nFriday\, March 15\, 2024\n9 am to 3 pm \n \nVFW Post 7061 \n516 S. Hopi Ave. \nParker\, AZ 85344 \nFree food will be available. Call 928.323.4401 for more information. \nVeteran StandDown events are a fantastic way for veterans to access a variety of resources all in one place. Veterans are encouraged to attend and connect with other veterans\, community leaders\, and helpful resources. \nVeteran StandDown events typically offer resources related to: \n\nEmployment resources\nHealthcare and mental wellness\nHousing resources\nLegal resources\nPet services\n\nVA benefits
URL:https://connectveterans.org/event/10461/
LOCATION:VFW Post 7061\, 516 South Hopi Ave\, Parker\, AZ
CATEGORIES:StandDown
ATTACH;FMTTYPE=image/png:https://connectveterans.org/wp-content/uploads/2024/02/Vet-Stand-Down-Calendar-Icon-1.png
END:VEVENT
BEGIN:VEVENT
DTSTART;VALUE=DATE:20240318
DTEND;VALUE=DATE:20240319
DTSTAMP:20260423T023945
CREATED:20230227T061249Z
LAST-MODIFIED:20230227T061249Z
UID:8345-1710720000-1710806399@connectveterans.org
SUMMARY:Supreme Sacrifice Day
DESCRIPTION:Supreme Sacrifice Day is observed on March 18 each year to honor those who have made the ultimate sacrifice in service to their country. This day recognizes the bravery and selflessness of military personnel\, police officers\, firefighters\, and other first responders who have given their lives while performing their duties. The sacrifices of these individuals and their families are a testament to the true meaning of courage and dedication. On Supreme Sacrifice Day\, people are encouraged to take a moment to remember and honor those who have given their lives for their country\, and to show support for the families and loved ones of fallen heroes. It is also a reminder to appreciate the sacrifices made by those who continue to serve and protect our communities.
URL:https://connectveterans.org/event/supreme-sacrifice-day-2/
LOCATION:AZ
CATEGORIES:Holiday
END:VEVENT
BEGIN:VEVENT
DTSTART;VALUE=DATE:20240319
DTEND;VALUE=DATE:20240326
DTSTAMP:20260423T023945
CREATED:20230227T055059Z
LAST-MODIFIED:20230227T055059Z
UID:8327-1710806400-1711411199@connectveterans.org
SUMMARY:National Women's Military History Week
DESCRIPTION:National Women’s Military History Week is observed annually from March 19 – March 25. This observance recognizes the contributions of women in military service throughout American history. The week-long celebration honors the women who have served in the U.S. armed forces\, both in times of war and peace\, and highlights their sacrifices\, bravery\, and achievements. It increases awareness and understanding of the challenges that women have faced in pursuing military careers and how their service has shaped the country’s history and defense. By recognizing the important role that women have played in the U.S. military\, National Women’s Military History Week seeks to inspire future generations of women to pursue careers in the military and to advocate for gender equality in all fields.
URL:https://connectveterans.org/event/national-womens-military-history-week-2/
LOCATION:AZ
CATEGORIES:Holiday
END:VEVENT
BEGIN:VEVENT
DTSTART;VALUE=DATE:20240321
DTEND;VALUE=DATE:20240322
DTSTAMP:20260423T023945
CREATED:20230227T061755Z
LAST-MODIFIED:20230227T061755Z
UID:8351-1710979200-1711065599@connectveterans.org
SUMMARY:Rosie the Riveter Day
DESCRIPTION:Rosie the Riveter Day is celebrated on March 21 each year in honor of the iconic cultural icon that represented the hardworking women who supported the American war effort during World War II. Rosie the Riveter symbolized the millions of women who entered the workforce to replace male workers who were fighting in the war. These women worked in factories and shipyards\, building airplanes\, tanks\, and other supplies that were essential to the war effort. Their contributions not only helped win the war but also paved the way for women’s rights and opportunities in the workplace. Rosie the Riveter Day celebrates the courage\, strength\, and determination of these women and serves as a reminder of their important role in American history. The day encourages people to recognize and honor the achievements of women in the workforce and to continue to promote gender equality and women’s empowerment.
URL:https://connectveterans.org/event/rosie-the-riveter-day-2/
LOCATION:AZ
CATEGORIES:Holiday
END:VEVENT
BEGIN:VEVENT
DTSTART;TZID=America/Phoenix:20240323T100000
DTEND;TZID=America/Phoenix:20240323T140000
DTSTAMP:20260423T023945
CREATED:20240303T212618Z
LAST-MODIFIED:20240303T212618Z
UID:10706-1711188000-1711202400@connectveterans.org
SUMMARY:Veteran Recreation Fair
DESCRIPTION:The Veteran Recreation Fair is free to attend. The event is co-hosted by the ASU Office for Veteran and Military Academic Engagement\, OVMAE and MCC Phoenix College. \nDiscover a range of activities aimed at boosting mental health. Enjoy art\, equine pursuits\, exercise\, wilderness adventures\, and more. Most opportunities are free or offer scholarship/grant programs. \nSaturday\, March 23\, 2024 \n10 a.m. – 2 p.m. (MST) \nPhoenix College\, Sophomore Square \n1202 W Thomas Road Phoenix Arizona 8501 \n \nRegistration is requested at: https://docs.google.com/forms/d/e/1FAIpQLScO0RkdJb-v_M-BQFhjyt87hwgfpz-evGQ3_RYtnYhI1FKsdQ/viewform \nEvent contact: Stacey Eastwood\, 602.543.6911\, sdeastwo@asu.edu
URL:https://connectveterans.org/event/veteran-recreation-fair/
LOCATION:Phoenix C ollege\, 1202 W. Thomas Road\, Phoenix\, AZ\, 85013
CATEGORIES:Mental Health,Partner Event
END:VEVENT
BEGIN:VEVENT
DTSTART;VALUE=DATE:20240325
DTEND;VALUE=DATE:20240326
DTSTAMP:20260423T023945
CREATED:20230227T062126Z
LAST-MODIFIED:20230227T062133Z
UID:8357-1711324800-1711411199@connectveterans.org
SUMMARY:National Medal of Honor Day
DESCRIPTION:National Medal of Honor Day is a holiday observed annually on March 25. The Medal of Honor is the highest military decoration that can be awarded to members of the U.S. Armed Forces\, and National Medal of Honor Day is a day to recognize and honor the brave individuals who have received this prestigious award. The Medal of Honor is awarded to individuals who have distinguished themselves through acts of valor and heroism above and beyond the call of duty\, often at great personal risk. National Medal of Honor Day is a time to reflect on the sacrifices made by these individuals\, and to honor their legacy of service and sacrifice in defense of our nation. It is also an opportunity to recognize and thank all members of the U.S. military for their service to our country.
URL:https://connectveterans.org/event/national-medal-of-honor-day-2/
LOCATION:AZ
CATEGORIES:Holiday
END:VEVENT
BEGIN:VEVENT
DTSTART;TZID=America/Phoenix:20240327T090000
DTEND;TZID=America/Phoenix:20240327T113000
DTSTAMP:20260423T023945
CREATED:20231105T004614Z
LAST-MODIFIED:20241021T015946Z
UID:9878-1711530000-1711539000@connectveterans.org
SUMMARY:Military/Veteran Resource Navigation Training
DESCRIPTION:Military/Veteran Resource Navigation Training\nThis virtual training is open to everyone and is offered at no cost. Registration is required. Learn how to connect military/veteran community members to the right resources. \nBy taking this training\, you will be equipped to be a helper to Arizona’s 500\,000+ service members\, veterans\, and their family members. You’re joining thousands of others across Arizona who have taken the training to form a network of helpers who are there as an open door\, equipped with knowledge and access to a database of resources. Be the connection point for the military and veteran community. \nRegister Here \n2024 Training Dates \nEach event is from 9 to 11:30 a.m. Arizona time \n\nMarch 27\nMay 29\nJune 26\nJuly 31\nAugust 28\nOctober 30\nNovember 20\nDecember 18\n\nThis training covers: \n\nMilitary/Veteran culture\nFactors that may affect a person or family’s access to resources\nResource navigation strategies\nHow to find resources to address a range of issues including employment\, physical and mental health\, finances\, family issues\, and much more\n\nQuestions? Please email community@arizonacoalition.org or call 602-753-8802.
URL:https://connectveterans.org/event/military-veteran-resource-navigation-training-7/
LOCATION:AZ
ATTACH;FMTTYPE=image/png:https://connectveterans.org/wp-content/uploads/2023/11/24-Resource-Nav-Blog-Thumb.png
END:VEVENT
BEGIN:VEVENT
DTSTART;TZID=America/Phoenix:20240327T090000
DTEND;TZID=America/Phoenix:20240327T140000
DTSTAMP:20260423T023945
CREATED:20240217T200326Z
LAST-MODIFIED:20240217T200326Z
UID:10467-1711530000-1711548000@connectveterans.org
SUMMARY:Verde Valley StandDown
DESCRIPTION:Verde Valley StandDown\nWednesday\, March 27 from 9 am – 2 pm \nEVENT FLYER \nSedona Elks Lodge\n110 Airport Rd.\nSedona\, AZ 86336 \nVeterans can receive hygiene kits\, clothing\, community services\, employment support with a job fair on site\, healthcare (dental\, vision\, and wellness)\, haircuts\, pet food\, VA services\, legal assistance\, housing support\, and much more. For more information\, call 928.286.7446 or email verdevalleystanddown@gmail.com \nFor more information\, call 928.286.7446 or email nazveteranstanddown@aol.com
URL:https://connectveterans.org/event/verde-valley-standdown-2/
LOCATION:Sedona Elks Lodge\, 110 Airport Road\, Sedona\, AZ\, 86336
CATEGORIES:StandDown
ATTACH;FMTTYPE=image/png:https://connectveterans.org/wp-content/uploads/2024/02/Vet-Stand-Down-Calendar-Icon-1.png
END:VEVENT
BEGIN:VEVENT
DTSTART;VALUE=DATE:20240329
DTEND;VALUE=DATE:20240330
DTSTAMP:20260423T023945
CREATED:20230227T062903Z
LAST-MODIFIED:20230227T062903Z
UID:8363-1711670400-1711756799@connectveterans.org
SUMMARY:Vietnam War Veterans Day
DESCRIPTION:Vietnam War Veterans Day is observed annually on March 29 to honor the sacrifices and service of the men and women who served during the Vietnam War. The Vietnam War lasted from 1954 to 1975. Many Vietnam veterans were not properly recognized or appreciated upon their return home\, and this day serves as an opportunity to thank them for their service and to recognize the sacrifices they made. On this day\, Americans are encouraged to fly the American flag and participate in ceremonies and events to honor Vietnam veterans. It is also a day to reflect on the lessons learned from the war and to promote healing and reconciliation among veterans\, their families\, and the nation as a whole.
URL:https://connectveterans.org/event/vietnam-war-veterans-day-2/
LOCATION:AZ
CATEGORIES:Holiday
END:VEVENT
END:VCALENDAR