BEGIN:VCALENDAR
VERSION:2.0
PRODID:-//Be Connected - ECPv6.15.20//NONSGML v1.0//EN
CALSCALE:GREGORIAN
METHOD:PUBLISH
X-WR-CALNAME:Be Connected
X-ORIGINAL-URL:https://connectveterans.org
X-WR-CALDESC:Events for Be Connected
REFRESH-INTERVAL;VALUE=DURATION:PT1H
X-Robots-Tag:noindex
X-PUBLISHED-TTL:PT1H
BEGIN:VTIMEZONE
TZID:America/Phoenix
BEGIN:STANDARD
TZOFFSETFROM:-0700
TZOFFSETTO:-0700
TZNAME:MST
DTSTART:20220101T000000
END:STANDARD
END:VTIMEZONE
BEGIN:VEVENT
DTSTART;VALUE=DATE:20231101
DTEND;VALUE=DATE:20231201
DTSTAMP:20260422T054504
CREATED:20230117T075513Z
LAST-MODIFIED:20230117T075513Z
UID:7929-1698796800-1701388799@connectveterans.org
SUMMARY:Community Helper Training
DESCRIPTION:Become a Pillar of Support in Your Community \nWe invite you to join us for the Be Connected Community Corps training series. This self-paced virtual training is offered at no cost to any Arizonan interested in becoming a source of support for service members\, veterans\, and their families. You can enroll and start this training series at any time! \n  \nMake a Difference \nBy taking the Be Connected Community Corps Helper Training\, you can strengthen your ability to give back to all who are serving and have served our country. As a trained Be Connected Community Corps Helper\, you will be a guidepost for service members\, veterans\, and their families in your neighborhood\, helping to make them feel connected and cared for. As a Community Helper\, you will be equipped with the knowledge\, skills\, and confidence to make a difference in the lives of Arizona’s military and veteran community. \n  \nAbout the Training  \nThe training series consists of 10 modules that relate to the Social Determinants of Health. Each module includes a video full of helpful information as well as a handout with key points and space to take your own notes. There will be an opportunity to ask questions and engage with our moderator and other course participants in the online community. At the conclusion of the training series\, you will earn the Be Connected Community Corps Certificate and be connected to a wide variety of opportunities to serve Arizona’s service members\, veterans\, and their families. \n  \nLearn more about the Be Connected Community Corps Community Helper training series at www.ConnectVeterans.org/BCCCHelper \nSign up now at https://bit.ly/BCCCHelper
URL:https://connectveterans.org/event/community-helper-training-10/
LOCATION:AZ
CATEGORIES:BCCC
ATTACH;FMTTYPE=image/png:https://connectveterans.org/wp-content/uploads/2023/01/BCCC-Helper-Thumb-1.png
END:VEVENT
BEGIN:VEVENT
DTSTART;VALUE=DATE:20231101
DTEND;VALUE=DATE:20231201
DTSTAMP:20260422T054504
CREATED:20230228T044738Z
LAST-MODIFIED:20230228T044738Z
UID:8561-1698796800-1701388799@connectveterans.org
SUMMARY:Military Caregiver Month
DESCRIPTION:Military Caregivers Month is observed during the month of November to honor and recognize the contributions of military caregivers. November is also National Family Caregivers Month\, a similar observation that honors and recognizes the contributions of caregivers and raises awareness of the challenges they face. Military caregivers are individuals who provide care and support for wounded\, ill or injured service members and veterans. The month-long observance works to raise awareness of the unique challenges that military caregivers face and to show appreciation for their vital role in supporting the health and well-being of those who have served our country. The significance of Military Caregivers Month lies in its recognition of the sacrifices and resilience of military caregivers\, as well as the need to provide them with resources and support to help them cope with the challenges of caregiving. The month is marked by events and activities that aim to honor and support military caregivers\, provide education and resources for them\, and promote advocacy on their behalf. It is an opportunity to show gratitude and support for the essential work that military caregivers do\, and to advocate for policies and initiatives that support their well-being and the well-being of those they care for.
URL:https://connectveterans.org/event/military-caregiver-month/
LOCATION:AZ
CATEGORIES:Holiday
END:VEVENT
BEGIN:VEVENT
DTSTART;VALUE=DATE:20231101
DTEND;VALUE=DATE:20231201
DTSTAMP:20260422T054504
CREATED:20230228T045113Z
LAST-MODIFIED:20230228T045113Z
UID:8567-1698796800-1701388799@connectveterans.org
SUMMARY:Military Family Month
DESCRIPTION:Military Family Month is observed during the month of November to honor and recognize the sacrifices and contributions of military families. The observance serves to raise awareness of the unique challenges that military families face and to show appreciation for their resilience and dedication. Military families often make significant sacrifices in support of their service member\, including frequent relocations\, long separations\, and challenges related to military life. The significance of Military Family Month lies in its recognition of the sacrifices and contributions of military families\, as well as the need to provide them with support and resources to help them thrive. The month is marked by events and activities that aim to honor and support military families\, provide education and resources for them\, and promote advocacy on their behalf. It is an opportunity to show gratitude and support for the essential work that military families do\, and to advocate for policies and initiatives that support their well-being and the well-being of their service member.
URL:https://connectveterans.org/event/military-family-month/
LOCATION:AZ
CATEGORIES:Holiday
END:VEVENT
BEGIN:VEVENT
DTSTART;VALUE=DATE:20231101
DTEND;VALUE=DATE:20231201
DTSTAMP:20260422T054504
CREATED:20230228T045453Z
LAST-MODIFIED:20230228T045453Z
UID:8573-1698796800-1701388799@connectveterans.org
SUMMARY:Warrior Care Month
DESCRIPTION:Warrior Care Month is an annual observance in November that honors and recognizes the sacrifices of the wounded\, ill\, and injured service members and their families. It is a time to raise awareness of the challenges that these individuals and families face and to show appreciation for their strength\, resilience\, and commitment to service. The month also highlights the importance of providing comprehensive support and care to these individuals to help them heal\, recover\, and reintegrate into their communities. Warrior Care Month is a reminder that we have a responsibility to take care of those who have sacrificed so much for our country.
URL:https://connectveterans.org/event/warrior-care-month/
LOCATION:AZ
CATEGORIES:Holiday
END:VEVENT
BEGIN:VEVENT
DTSTART;VALUE=DATE:20231101
DTEND;VALUE=DATE:20231201
DTSTAMP:20260422T054504
CREATED:20231023T155144Z
LAST-MODIFIED:20231023T155144Z
UID:9763-1698796800-1701388799@connectveterans.org
SUMMARY:Arizona Veteran Survey
DESCRIPTION:The statewide Arizona Veteran Survey is open to all service members\, veterans\, their family members\, and community supporters. We encourage you to invest 10 minutes to take the survey and share your thoughts. Your responses will help guide future decisions for programs\, services\, and resources offered by the Arizona Coalition for Military Families. Your confidential responses will help strengthen the care and support provided to service members\, veterans\, and their families throughout Arizona.  \nPlease START the survey\, FINISH the survey\, and SHARE the survey link with your network and community.  \nTake the survey and learn more at www.ConnectVeterans.org/Survey or call the Be Connected Support Line at 866-4AZ-VETS (866-429-8387).
URL:https://connectveterans.org/event/arizona-veteran-survey/
LOCATION:AZ
ATTACH;FMTTYPE=image/png:https://connectveterans.org/wp-content/uploads/2023/10/Survey-P10-1.png
END:VEVENT
BEGIN:VEVENT
DTSTART;VALUE=DATE:20231110
DTEND;VALUE=DATE:20231111
DTSTAMP:20260422T054504
CREATED:20230228T050453Z
LAST-MODIFIED:20230228T050453Z
UID:8580-1699574400-1699660799@connectveterans.org
SUMMARY:U.S. Marine Corps Birthday
DESCRIPTION:This annual observance commemorates the establishment of the United States Marine Corps on November 10\, 1775. This day recognizes the bravery and sacrifice of the Marines and their steadfast commitment to defending the nation’s interests\, both at home and abroad. The Marine Corps is a highly trained and disciplined force capable of conducting a wide range of military operations\, including amphibious assaults\, ground combat\, and specialized missions. Marines have fought in every major conflict in American history\, and they have earned a reputation as some of the toughest and most dedicated warriors in the world. The core values of the U.S. Marine Corps are Honor\, Courage\, and Commitment. The observance is an opportunity to celebrate the proud traditions and heritage of the Marine Corps and to honor the service and sacrifice of its members\, both past and present.
URL:https://connectveterans.org/event/u-s-marine-corps-birthday/
LOCATION:AZ
CATEGORIES:Holiday
END:VEVENT
BEGIN:VEVENT
DTSTART;VALUE=DATE:20231111
DTEND;VALUE=DATE:20231112
DTSTAMP:20260422T054504
CREATED:20230228T044447Z
LAST-MODIFIED:20230228T044447Z
UID:8555-1699660800-1699747199@connectveterans.org
SUMMARY:Veterans Day
DESCRIPTION:Veterans Day is a federal holiday that is observed on November 11 each year. Its primary purpose is to honor and express gratitude to all American veterans who have served in the U.S. military\, both in wartime and peacetime. The day has its origins in the aftermath of World War I\, when it was called Armistice Day to commemorate the end of the war on November 11\, 1918. In 1954\, the holiday was officially renamed Veterans Day to recognize the service of all veterans. Traditionally\, parades\, ceremonies\, and other tributes are held to honor the bravery\, sacrifice\, and patriotism of those who have served their country. Veterans Day has significant cultural and historical significance in the U.S.\, serving as a reminder of the sacrifices made by the military and the importance of recognizing their service and contributions to the nation. \nNOTE: Veterans Day is different than Memorial Day. Memorial Day is meant for remembering and honoring military personnel who died in the service of their country\, particularly those who died in battle or as a result of a wound sustained in battle. Veterans Day is intended to thank all those who have honorably served in the military – in wartime or peacetime.
URL:https://connectveterans.org/event/veterans-day-2/
LOCATION:AZ
CATEGORIES:Holiday
END:VEVENT
BEGIN:VEVENT
DTSTART;TZID=America/Phoenix:20231111T100000
DTEND;TZID=America/Phoenix:20231111T170000
DTSTAMP:20260422T054504
CREATED:20231022T030653Z
LAST-MODIFIED:20231022T030653Z
UID:9756-1699696800-1699722000@connectveterans.org
SUMMARY:20th Annual Veterans Day Weekend Traditional Pow Wow
DESCRIPTION:20th Annual Veterans Day Weekend Traditional Pow Wow \nNovember 11 at 10 AM \nASU West Campus\, Fletcher Lawn \nRegister Here \nCelebrate Native American heritage and honor the contributions of all U.S. veterans at the Native American Heritage Festival featuring the 20th Annual Veterans Day Weekend Traditional Pow Wow on Fletcher Library Lawn at ASU’s West campus. \nThe centerpiece of the event — the Pow Wow — is a traditional gathering of dancers\, drummers\, elders and families. The arena director will direct the activities in the dance arena and the announcer will explain the symbolism\, protocol and spiritual meanings of the dances\, regalia\, singing and drumming. \nHave questions? Contact ncevents@asu.edu or visit destinationwest.asu.edu
URL:https://connectveterans.org/event/20th-annual-veterans-day-weekend-traditional-pow-wow/
LOCATION:AZ
CATEGORIES:Partner Event
ATTACH;FMTTYPE=image/jpeg:https://connectveterans.org/wp-content/uploads/2023/10/PowWow2.jpg
END:VEVENT
BEGIN:VEVENT
DTSTART;TZID=America/Phoenix:20231115T100000
DTEND;TZID=America/Phoenix:20231115T113000
DTSTAMP:20260422T054504
CREATED:20231005T190125Z
LAST-MODIFIED:20231008T011900Z
UID:9645-1700042400-1700047800@connectveterans.org
SUMMARY:Arizona Faith Gathering
DESCRIPTION:Join us for the next Arizona Faith Gathering taking place virtually on Wednesday\, November 15\, 2023\, from 10 – 11:30 a.m. Arizona time. There is no cost for this event and all are welcome!\nREGISTER HERE \nDOWNLOAD EVENT FLYER \nFEATURED SPEAKER: PASTOR SANGHOON YOO\, MDIV.\, MSW \nPastor Yoo will share the insights gained through his experience working with faith community leaders to help them approach the sensitive topic of mental health. The key\, according to Pastor Yoo\, is to create a “culture of belonging” in the faith community\, where honest conversations on mental health can be safely held. \nLearn more about the Be Connected Faith Network at www.ConnectVeterans.org/faith 
URL:https://connectveterans.org/event/arizona-faith-gathering-4/
LOCATION:AZ
CATEGORIES:Faith Network,Virtual Event
ATTACH;FMTTYPE=image/png:https://connectveterans.org/wp-content/uploads/2023/10/Faith-Gathering-4-Thumb.png
END:VEVENT
BEGIN:VEVENT
DTSTART;VALUE=DATE:20231117
DTEND;VALUE=DATE:20231118
DTSTAMP:20260422T054504
CREATED:20231023T160402Z
LAST-MODIFIED:20231023T160402Z
UID:9768-1700179200-1700265599@connectveterans.org
SUMMARY:Free Legal Clinic for Veterans
DESCRIPTION:FREE LEGAL CLINIC FOR VETERANS\nThis clinic is by appointment only. NO WALK-INS WILL BE ACCEPTED. \nTO SCHEDULE AN APPOINTMENT\, PLEASE CALL: (480) 606-5180 \nNOTE: This is an advice and referral clinic only. Representation will not be provided. Veteran benefit cases cannot be addressed. \nEvent Flyer \n\nCHILD SUPPORT AND FAMILY LAW CONCERNS\nDRIVER’S LICENSE REINSTATEMENT\nCRIMINAL RECORD SET ASIDES & MORE\n\nFriday\, November 17\, 2023 \nVA Community Resource and Referral Center  \n1500 E. Thomas Road Suite 106\, Phoenix\, AZ\, 85014  \nRoom 1133\n\n\n\n\n\n\n 
URL:https://connectveterans.org/event/free-legal-clinic-for-veterans/
LOCATION:1500 E Thomas\, 1500 E. Thomas Road\, Suite 106\, Phoenix\, AZ\, 85014
ATTACH;FMTTYPE=image/jpeg:https://connectveterans.org/wp-content/uploads/2023/10/Legal.jpg
END:VEVENT
BEGIN:VEVENT
DTSTART;TZID=America/Phoenix:20231117T070000
DTEND;TZID=America/Phoenix:20231118T170000
DTSTAMP:20260422T054504
CREATED:20231022T010219Z
LAST-MODIFIED:20231022T012616Z
UID:9742-1700204400-1700326800@connectveterans.org
SUMMARY:5th Annual Tribal Veterans Symposium
DESCRIPTION:5th Annual Tribal Veterans Symposium \nThis FREE event is for Tribal Veterans\, Military Service Members\, and their families\, providers\, partners\, and stakeholders. \n  \nNovember 17 from 7 AM – November 18 to 5 PM \nTwin Arrow Navajo Casino Resort \n22181 Resort Blvd Flagstaff\, AZ 86004 \nRegister Here \nThis year’s theme: One Team One Fight: Culture\, Health & Service \nGourd Dance on November 18th at 1 PM\nHead Gourd Dancer: Milton B. Yazzie\nArena Director: Jayden Cleveland\nMaster of Ceremony: Mike Salabiye\nHost Drum: Southern Slam \nThe Statewide Tribal Veterans Symposium was created to focus on tribal veterans’ health\, healthcare\, and wellness. The event will include presentations to highlight programs and services\, professional growth\, and networking. Information tables will be available on Friday and Saturday\, November 17 & 18. \nIf you have any questions\, please contact: \nHolly Figueroa\, BSBCAZ Health Choice at | (928) 214-2169 \nShawndin Tracy\, Facility Rural Health Coordinator\, Phoenix Veterans Affairs Health Care System | (602) 795-4236
URL:https://connectveterans.org/event/5th-annual-tribal-veterans-symposium/
LOCATION:Twin Arrows\, 22181 Resort Blvd\, Flagstaff\, AZ\, 86004
CATEGORIES:Partner Event,Symposium
ATTACH;FMTTYPE=image/jpeg:https://connectveterans.org/wp-content/uploads/2023/10/Tribal-Symposium.jpg
END:VEVENT
BEGIN:VEVENT
DTSTART;TZID=America/Phoenix:20231117T090000
DTEND;TZID=America/Phoenix:20231117T140000
DTSTAMP:20260422T054504
CREATED:20231022T020749Z
LAST-MODIFIED:20231022T020749Z
UID:9752-1700211600-1700229600@connectveterans.org
SUMMARY:Graham/Greenlee Veteran StandDown
DESCRIPTION:You’re invited to the Graham/Greenlee Veteran StandDown event happening Nov. 17 from 9 am – 2 pm at the Graham County Fairgrounds\, US Hwy 191 in Safford\, AZ
URL:https://connectveterans.org/event/graham-greenlee-veteran-standdown/
LOCATION:US Hwy 191\, US Hwy 191\, Safford\, AZ\, 85546
CATEGORIES:Partner Event,StandDown
ATTACH;FMTTYPE=image/png:https://connectveterans.org/wp-content/uploads/2023/02/Veteran-Stand-Down.png
END:VEVENT
END:VCALENDAR