BEGIN:VCALENDAR
VERSION:2.0
PRODID:-//Be Connected - ECPv6.15.20//NONSGML v1.0//EN
CALSCALE:GREGORIAN
METHOD:PUBLISH
X-WR-CALNAME:Be Connected
X-ORIGINAL-URL:https://connectveterans.org
X-WR-CALDESC:Events for Be Connected
REFRESH-INTERVAL;VALUE=DURATION:PT1H
X-Robots-Tag:noindex
X-PUBLISHED-TTL:PT1H
BEGIN:VTIMEZONE
TZID:America/Phoenix
BEGIN:STANDARD
TZOFFSETFROM:-0700
TZOFFSETTO:-0700
TZNAME:MST
DTSTART:20220101T000000
END:STANDARD
END:VTIMEZONE
BEGIN:VEVENT
DTSTART;VALUE=DATE:20231001
DTEND;VALUE=DATE:20231101
DTSTAMP:20260422T053615
CREATED:20230117T075342Z
LAST-MODIFIED:20230117T075342Z
UID:7927-1696118400-1698796799@connectveterans.org
SUMMARY:Community Helper Training
DESCRIPTION:Become a Pillar of Support in Your Community \nWe invite you to join us for the Be Connected Community Corps training series. This self-paced virtual training is offered at no cost to any Arizonan interested in becoming a source of support for service members\, veterans\, and their families. You can enroll and start this training series at any time! \n  \nMake a Difference \nBy taking the Be Connected Community Corps Helper Training\, you can strengthen your ability to give back to all who are serving and have served our country. As a trained Be Connected Community Corps Helper\, you will be a guidepost for service members\, veterans\, and their families in your neighborhood\, helping to make them feel connected and cared for. As a Community Helper\, you will be equipped with the knowledge\, skills\, and confidence to make a difference in the lives of Arizona’s military and veteran community. \n  \nAbout the Training  \nThe training series consists of 10 modules that relate to the Social Determinants of Health. Each module includes a video full of helpful information as well as a handout with key points and space to take your own notes. There will be an opportunity to ask questions and engage with our moderator and other course participants in the online community. At the conclusion of the training series\, you will earn the Be Connected Community Corps Certificate and be connected to a wide variety of opportunities to serve Arizona’s service members\, veterans\, and their families. \n  \nLearn more about the Be Connected Community Corps Community Helper training series at www.ConnectVeterans.org/BCCCHelper \nSign up now at https://bit.ly/BCCCHelper \n 
URL:https://connectveterans.org/event/community-helper-training-9/
LOCATION:AZ
CATEGORIES:BCCC
ATTACH;FMTTYPE=image/png:https://connectveterans.org/wp-content/uploads/2023/01/BCCC-Helper-Thumb-2.png
END:VEVENT
BEGIN:VEVENT
DTSTART;VALUE=DATE:20231013
DTEND;VALUE=DATE:20231014
DTSTAMP:20260422T053615
CREATED:20230228T043555Z
LAST-MODIFIED:20230228T043555Z
UID:8541-1697155200-1697241599@connectveterans.org
SUMMARY:U.S. Navy Birthday
DESCRIPTION:This annual observance commemorates the establishment of the United States Navy on October 13\, 1775\,  when the Continental Congress authorized a few small ships. This day recognizes the courage and commitment of the Navy’s sailors and their pivotal role in defending America’s interests on the high seas. The U.S. Navy is a powerful force capable of projecting American interests across the world. It is responsible for protecting American interests at sea\, maintaining freedom of navigation\, conducting maritime operations\, and promoting stability and security in international waters. The observance is an opportunity to honor the proud history and traditions of the Navy\, its values of Honor\, Courage and Commitment\, and to express gratitude for the service and sacrifice of its sailors\, both past and present.
URL:https://connectveterans.org/event/u-s-navy-birthday/
LOCATION:AZ
CATEGORIES:Holiday
END:VEVENT
BEGIN:VEVENT
DTSTART;TZID=America/Phoenix:20231014T090000
DTEND;TZID=America/Phoenix:20231014T140000
DTSTAMP:20260422T053615
CREATED:20230724T232043Z
LAST-MODIFIED:20230724T232502Z
UID:9296-1697274000-1697292000@connectveterans.org
SUMMARY:Veteran StandDown: Pinal County
DESCRIPTION:Pinal County\n11th Annual Veteran Stand Down & Resource Fair\nOctober 14\, 2023\n9:00 am -2:00 pm \nHOHP Veteran Transition Center\n5497 West McCartney Rd.\, Coolidge\, AZ \nStandDown events are a great way for veterans to access a variety of resources all in one place. Veterans are encouraged to attend this event to connect with other veterans\, community leaders\, and resources. \nAll veterans are invited to attend and access:\n• VA Benefit Assistance\n• Social Security Administration Services\n• Driver License & State ID Services\n• Veterans Court Services\n• Haircuts\, Showers\n• Housing Assistance\n• Clothing Assistance\n• Pet Assistance\n• Women Veteran Services\n• Employment & Training Resources \nFor a complete listing of services\, view the event flyer. \nFor more information on other upcoming StandDown events and the Arizona Veteran StandDown Alliance\, visit https://www.azhousingcoalition.org/avsa.html \n 
URL:https://connectveterans.org/event/veteran-standdown-pinal-county/
LOCATION:5497 West McCartney Road\, 5497 W. McCartney Road\, Coolidge\, AZ
ATTACH;FMTTYPE=image/png:https://connectveterans.org/wp-content/uploads/2023/02/Veteran-Stand-Down.png
END:VEVENT
BEGIN:VEVENT
DTSTART;TZID=America/Phoenix:20231019T080000
DTEND;TZID=America/Phoenix:20231019T163000
DTSTAMP:20260422T053615
CREATED:20231009T035515Z
LAST-MODIFIED:20231009T043044Z
UID:9687-1697702400-1697733000@connectveterans.org
SUMMARY:Mental Health Summit
DESCRIPTION:Mental Health Summit\nThursday\, October 19 \n8 AM – 4:30 PM \nSchedule: \n\nVirtual Session: 8 a.m. – 12 p.m. Arizona time\n\nAttend virtual presentations\n\n\nOnsite Session = 120 p.m. – 4:30 p.m. Arizona time\n\nAttend in-person presentations at your nearest Arizona VA location\n\n\n\nREGISTER \nEVENT FLYER \n\nStep 1: Register for the virtual session\nStep 2: View confirmation email containing additional details for the in-person afternoon events\n\nThis is a special opportunity for you to connect with VA and community leadership and collaborate on solutions within the mental health space.
URL:https://connectveterans.org/event/mental-health-summit-2/
LOCATION:AZ
CATEGORIES:Mental Health,Partner Event
ATTACH;FMTTYPE=image/jpeg:https://connectveterans.org/wp-content/uploads/2023/10/Thumb.jpg
END:VEVENT
BEGIN:VEVENT
DTSTART;TZID=America/Phoenix:20231020T100000
DTEND;TZID=America/Phoenix:20231020T113000
DTSTAMP:20260422T053615
CREATED:20230108T002038Z
LAST-MODIFIED:20230108T002038Z
UID:7787-1697796000-1697801400@connectveterans.org
SUMMARY:Arizona Veteran Supportive Campus: Military Culture Training
DESCRIPTION:This training is provided at no cost for the employees\, staff\, faculty\, and leadership of colleges\, technical schools\, universities\, and other higher education organizations that have earned or are working to earn the Arizona Veteran Supportive Campus (AVSC) designation from the Arizona Department of Veterans’ Services. Staff and faculty of current and prospective Arizona Veteran Supportive Campuses are invited to participate in this no-cost\, virtual training focused on military/veteran culture and related topics to best support military-affiliated students. The training course is offered three times in 2023: \n\nFriday\, January 20\, 2023\, from 10 – 11:30 a.m.\nFriday\, August 18\, 2023\, from 10 – 11:30 a.m.\nFriday\, October 20\, 2023\, from 10 – 11:30 a.m.\n\nTo sign up\, visit: https://bit.ly/AVSC2023 \nFor questions or more information\, email Community@ArizonaCoalition.org
URL:https://connectveterans.org/event/arizona-veteran-supportive-campus-military-culture-training-3/
LOCATION:AZ
CATEGORIES:AVSC
ATTACH;FMTTYPE=image/png:https://connectveterans.org/wp-content/uploads/2023/01/AVSC-Still-3.png
END:VEVENT
BEGIN:VEVENT
DTSTART;TZID=America/Phoenix:20231021T100000
DTEND;TZID=America/Phoenix:20231021T140000
DTSTAMP:20260422T053615
CREATED:20231022T015710Z
LAST-MODIFIED:20231022T015710Z
UID:9746-1697882400-1697896800@connectveterans.org
SUMMARY:Lake Havasu City StandDown
DESCRIPTION:Saturday\, October 21\n10 AM – 2 PM\nAquatic Center – Relics and Rods Hall\n100 Park\, Ave\, Lake Havasu City\, AZ 86403 \nEvent Flyer
URL:https://connectveterans.org/event/lake-havasu-city-standdown/
LOCATION:AZ
CATEGORIES:StandDown
ATTACH;FMTTYPE=image/png:https://connectveterans.org/wp-content/uploads/2023/02/Veteran-Stand-Down.png
END:VEVENT
BEGIN:VEVENT
DTSTART;VALUE=DATE:20231026
DTEND;VALUE=DATE:20231027
DTSTAMP:20260422T053615
CREATED:20230228T044125Z
LAST-MODIFIED:20230228T044125Z
UID:8549-1698278400-1698364799@connectveterans.org
SUMMARY:National Day of the Deployed
DESCRIPTION:The National Day of the Deployed is observed on October 26 to honor and show appreciation for the service and sacrifices of deployed military personnel. The day’s observance works to raise awareness of the important role that deployed service members play in defending the country and protecting America’s interests abroad\, as well as the sacrifices they and their families make. Deployments can be difficult and challenging\, and service members often face prolonged periods of separation from their loved ones\, exposure to danger and harsh conditions\, and other hardships. The significance of the National Day of the Deployed lies in its recognition of the sacrifices and contributions of deployed service members\, as well as the need to provide them with support and resources to help them fulfill their mission and return safely to their families. The day is marked by various activities and events that aim to honor and support deployed service members and their families\, provide education and resources for them\, and promote advocacy on their behalf. It is an opportunity to show gratitude and support for the essential work that deployed service members do\, and to advocate for policies and initiatives that support their well-being and the well-being of their families.
URL:https://connectveterans.org/event/national-day-of-the-deployed/
LOCATION:AZ
CATEGORIES:Holiday
END:VEVENT
BEGIN:VEVENT
DTSTART;TZID=America/Phoenix:20231027T090000
DTEND;TZID=America/Phoenix:20231027T140000
DTSTAMP:20260422T053615
CREATED:20231022T003526Z
LAST-MODIFIED:20231022T020135Z
UID:9739-1698397200-1698415200@connectveterans.org
SUMMARY:First Annual John Mateczun Memorial Veteran Resource Fair
DESCRIPTION:First Annual John Mateczun Memorial Veteran Resource Fair\n\n\n\nWhen: Fri. Oct 27\, 2023\, 9:00 am – 2:00 pm MT\nEvent Flyer\n \n\n\nWhere: Yavapai County Complex\, 10 South 6th Street\, Cottonwood\, AZ \n\n\n\n\nVA Services Claims Enrollment\nHygiene Kits\nVitalant Community Services\nEmployment Services\nJob Search Information\nDental\, Vision & Medical Assistance\nVSO Meet & Greet\nVeterans’ Court Information\nHousing Support Services\nDisability\, Improved Pension & Survivors Benefits\nWomen Veterans Reception\nYavapai County Health\n\nFOR GENERAL INFORMATION:\nC: 928-286-7446\nE: nazveteranstanddowns@aol.com
URL:https://connectveterans.org/event/first-annual-john-mateczun-memorial-veteran-resource-fair/
LOCATION:10 South 6th Street\, Cottonwood\, AZ\, 10 South 6th Street\, Cottonwood\, AZ
CATEGORIES:Partner Event,StandDown
ATTACH;FMTTYPE=image/png:https://connectveterans.org/wp-content/uploads/2023/02/Veteran-Stand-Down.png
END:VEVENT
END:VCALENDAR