BEGIN:VCALENDAR
VERSION:2.0
PRODID:-//Be Connected - ECPv6.15.20//NONSGML v1.0//EN
CALSCALE:GREGORIAN
METHOD:PUBLISH
X-WR-CALNAME:Be Connected
X-ORIGINAL-URL:https://connectveterans.org
X-WR-CALDESC:Events for Be Connected
REFRESH-INTERVAL;VALUE=DURATION:PT1H
X-Robots-Tag:noindex
X-PUBLISHED-TTL:PT1H
BEGIN:VTIMEZONE
TZID:America/Phoenix
BEGIN:STANDARD
TZOFFSETFROM:-0700
TZOFFSETTO:-0700
TZNAME:MST
DTSTART:20210101T000000
END:STANDARD
END:VTIMEZONE
BEGIN:VEVENT
DTSTART;VALUE=DATE:20221001
DTEND;VALUE=DATE:20221203
DTSTAMP:20260423T013141
CREATED:20221001T042923Z
LAST-MODIFIED:20221001T043133Z
UID:7099-1664582400-1670025599@connectveterans.org
SUMMARY:Understanding the Military Experience Training Courses
DESCRIPTION:Understanding the Military Experience Training\nThe Arizona Coalition for Military Families is proud to announce a partnership with Purdue University’s Military Family Research Institute\, the Center for Deployment Psychology Uniformed Services University\, and the National Guard. \nTogether\, we’re offering an opportunity to participate in a three-tiered virtual training experience through Zoom available to anyone who would like to gain a better understanding of the experiences of service members\, veterans\, and their families. Each training builds on the one before\, and the three tiers must be taken sequentially. \n  \nDownload the Course List & Schedule\nRegister Now\n\nThe Tier 1 “Introduction to Military Culture and Deployment” course is a one-day event and is offered on 10/31 & 11/14\nThe Tier 2 “Overview of Behavioral Health Challenges Related to Military Service” course is a two-day event and is offered 11/17 – 11/18 & 12/1 – 12/2\nThe “Intimate Partner Violence” course is a 2-hour course offered on 11/4.\nThere and two Tier 3 courses. The “Cognitive Behavioral Therapy for Insomnia” course is a two-day event offered 10/27 – 10/28. The “Prolonged Exposure Therapy for PTSD” course is offered 11/9 – 11/10.
URL:https://connectveterans.org/event/military-experience-training/
LOCATION:AZ
CATEGORIES:Partner Event,Virtual Event
ATTACH;FMTTYPE=image/png:https://connectveterans.org/wp-content/uploads/2022/09/Training-3.png
END:VEVENT
BEGIN:VEVENT
DTSTART;VALUE=DATE:20221101
DTEND;VALUE=DATE:20221122
DTSTAMP:20260423T013141
CREATED:20221111T062721Z
LAST-MODIFIED:20221111T062721Z
UID:7645-1667260800-1669075199@connectveterans.org
SUMMARY:Career Development Month 2022
DESCRIPTION:November is National Career Development Month. This is a terrific time for young adults to identify and pursue opportunities that lead them to a rewarding career. Early to mid-career professionals might work to identify career goals\, gain new skills or even pursue a new career path. Experienced career professionals might have an opportunity to help guide rising stars in their career fields. \nNo matter what career stage you’re in\, no matter what career field you might want to explore – the Be Connected Career Navigation team is here to support Arizona’s transitioning service members\, veterans\, their spouses/partners\, and family members with no-cost career support services. #CareerDevelopmentMonth #CareerNavigation \nLearn more at www.ConnectVeterans.org/CareerNav
URL:https://connectveterans.org/event/career-development-month-2022/
LOCATION:AZ
ATTACH;FMTTYPE=image/png:https://connectveterans.org/wp-content/uploads/2022/11/Career-Nav-2.png
END:VEVENT
BEGIN:VEVENT
DTSTART;TZID=America/Phoenix:20221102T100000
DTEND;TZID=America/Phoenix:20221102T113000
DTSTAMP:20260423T013141
CREATED:20221023T041126Z
LAST-MODIFIED:20221023T041126Z
UID:7463-1667383200-1667388600@connectveterans.org
SUMMARY:Arizona Faith Gathering
DESCRIPTION:Wednesday\, November 2\, 2022 \n10 AM – 11:30 AM MST \nVirtual Event \nRegister to receive the meeting link: https://www.eventbrite.com/e/arizona-faith-gathering-tickets-430022638287 \nWe are working to build a strong\, statewide network of caring and compassionate people who offer support for all who serve our country and their families who support them\, we hope that you will subscribe to news and event invitations and stay connected to the Be Connected Faith Network and the other resources and programs offered through Be Connected. \nIf you want to be a part of the Arizona Faith Gatherings and get more involved\, join us at this event!
URL:https://connectveterans.org/event/arizona-faith-gathering-2/
LOCATION:AZ
CATEGORIES:Faith Network,Virtual Event
ATTACH;FMTTYPE=image/png:https://connectveterans.org/wp-content/uploads/2022/10/Faith-Gathering-1181-×-1181-px.png
END:VEVENT
BEGIN:VEVENT
DTSTART;TZID=America/Phoenix:20221108T070000
DTEND;TZID=America/Phoenix:20221109T170000
DTSTAMP:20260423T013141
CREATED:20221023T051728Z
LAST-MODIFIED:20221023T063538Z
UID:7472-1667890800-1668013200@connectveterans.org
SUMMARY:4th Annual Tribal Veterans Symposium
DESCRIPTION:November 8 & 9 \nTwin Arrow Navajo Casino Resort\n22181 Resort Blvd\, Flagstaff\, Arizona\, 85013 \n7 AM – 5 PM \nNo-cost event open to the public \nThis FREE event is for Tribal Veterans\, Military Service Members and their families\, providers\, partners\, and stakeholders. Our theme this year is “One Team One Fight: Resilience & Renewal” \nThe 4th Annual Statewide Tribal Veterans Symposium is a collaborative effort between Health Choice Arizona Tribal Program\, Phoenix Veterans Affairs Health Care System\, and the Office of US Congressman Tom O’Halleran. On behalf of the planning committee\, we invite you to join us. The Statewide Tribal Veterans Symposium was created to focus on Tribal Veterans’ health\, healthcare\, and wellness. We will provide presentations that will allow for program and service awareness\, professional growth\, and networking. We are excited to provide important topics to our Tribal Veterans and communities. In addition\, we are very excited to have information tables available Tuesday\, November 8 & 9. Gourd Dance/Cultural Gathering will be November 8 starting at 4 pm MST. \n\nPlease stop by the Be Connected Table on November 8\nArizona Coalition for Military Families’ Director Thomas Winkel will be speaking on Nov 9 from 1:15 – 2:215 PM\n\nThis IN-PERSON event is being hosted at the Twin Arrows Casino Resort. Please note that there are COVID-19 safety precautions in place while at the event. Face masks are required while in the facility. \nThere is a block of rooms set aside for those will would like to stay on-site. The Group rate is $138.00+ tax/night. All reservations must be made individually through the Hotel’s Reservations Department by calling (928) 856-7541 by the cut-off date of Tuesday\, November 1\, 2022. Please reference Booking ID#9625 when calling to make your reservation. \nThe hotel requires deposits to guarantee all reservations. The deposit is to be equal to a one night’s stay plus tax. Room deposits are refundable in the event of individual room cancellations\, providing notice is received 48 hours before the scheduled arrival date. Individuals shall be responsible for their own room\, tax\, incidental charges\, and any other charges \nNo-shows or reservations canceled within 48 hours before arrival will be billed for the first night plus tax and said rooms returned to the hotel inventory. \nWe look forward to seeing you soon. If you have any questions\, please contact: \n\nHolly Figueroa\, BSBCAZ Health Choice at (928) 214-2169\nShawndin Tracy\, Facility Rural Health Coordinator\, Phoenix Veterans Affairs Health Care System at (602) 795-4236\nPaulette Yazzie\, Congressman Tom O’Halleran (AZ-D1) at (202) 495-8110
URL:https://connectveterans.org/event/4th-annual-tribal-veterans-symposium/
LOCATION:Twin Arrow Navajo Casino Resort\, 22181 Resort Blvd\, Flagstaff\, AZ\, 85013\, United States
CATEGORIES:Partner Event
ATTACH;FMTTYPE=image/png:https://connectveterans.org/wp-content/uploads/2022/10/4th-annual.png
END:VEVENT
BEGIN:VEVENT
DTSTART;VALUE=DATE:20221111
DTEND;VALUE=DATE:20221112
DTSTAMP:20260423T013141
CREATED:20221111T040321Z
LAST-MODIFIED:20221111T042320Z
UID:7632-1668124800-1668211199@connectveterans.org
SUMMARY:Veterans Day 2022
DESCRIPTION:Veterans Day began back in 1919 under President Woodrow Wilson. Veterans Day was originally named Armistice Day and was designated November 11 because of the significance of the end of World War I when the fighting stopped at the 11th hour on the 11th day of the month in 1918. \nIn 1954\, Congress officially changed the name of the federal holiday from Armistice Day to Veterans Day as a way to recognize veterans who fought in all wars. Today we observe Veterans Day across America in a variety of ways. Many communities host parades in honor of veterans. Moments of silence\, artwork\, and even discounts are some additional ways that Americans pay tribute to all who have served in the nation’s military. \nSince both observances honor the nation’s military members\, some people confuse Veterans Day with Memorial Day. Veterans Day is our opportunity to thank all service members and veterans for their service in the United States military\, whether in peacetime\, during conflicts\, or wartime. \nMemorial Day is a day set aside to recognize and remember the members of the United States military who lost their lives in service to our country\, with a special emphasis on those who died in battle or as a result of injuries from a battle. \nThe Arizona Coalition for Military Families and the Be Connected team\, many of whom are veterans themselves and members of military families\, wish to extend our sincere appreciation for all who are serving\, all who have served\, and everyone in their families who make their decision to serve in the military possible by making sacrifices so we\, as Americans\, can benefit from their selfless service.
URL:https://connectveterans.org/event/veterans-day/
LOCATION:AZ
CATEGORIES:Holiday
ATTACH;FMTTYPE=image/png:https://connectveterans.org/wp-content/uploads/2022/11/November-Veterans-Day-1.png
END:VEVENT
BEGIN:VEVENT
DTSTART;TZID=America/Phoenix:20221130T090000
DTEND;TZID=America/Phoenix:20221130T110000
DTSTAMP:20260423T013141
CREATED:20220214T203712Z
LAST-MODIFIED:20221223T003729Z
UID:5013-1669798800-1669806000@connectveterans.org
SUMMARY:Resource Navigation Training
DESCRIPTION:Everyone in our community is invited to attend Military/Veteran Resource Navigation training. This is the signature training developed by the Arizona Coalition for Military Families to equip members of our community to be an open door to connect service members\, veterans and their families to support and resources. Over 5\,000 Arizonans have attended this training. \nThere is no cost for this training and all are welcome! \nRegister: https://2023acmfnavigationtraining.eventbrite.com \nFor questions or more information\, email Events@ArizonaCoalition.org.
URL:https://connectveterans.org/event/resource-navigation-training-11-2022/
LOCATION:Virtual Event via Zoom
CATEGORIES:Resource Nav Training
ATTACH;FMTTYPE=image/png:https://connectveterans.org/wp-content/uploads/2021/05/doorway.png
ORGANIZER;CN="Arizona Coalition for Military Families":MAILTO:events@arizonzcoalition.org
END:VEVENT
END:VCALENDAR