BEGIN:VCALENDAR
VERSION:2.0
PRODID:-//Be Connected - ECPv6.15.20//NONSGML v1.0//EN
CALSCALE:GREGORIAN
METHOD:PUBLISH
X-WR-CALNAME:Be Connected
X-ORIGINAL-URL:https://connectveterans.org
X-WR-CALDESC:Events for Be Connected
REFRESH-INTERVAL;VALUE=DURATION:PT1H
X-Robots-Tag:noindex
X-PUBLISHED-TTL:PT1H
BEGIN:VTIMEZONE
TZID:America/Phoenix
BEGIN:STANDARD
TZOFFSETFROM:-0700
TZOFFSETTO:-0700
TZNAME:MST
DTSTART:20200101T000000
END:STANDARD
END:VTIMEZONE
BEGIN:VEVENT
DTSTART;TZID=America/Phoenix:20211215T090000
DTEND;TZID=America/Phoenix:20211215T103000
DTSTAMP:20260423T063307
CREATED:20210709T215858Z
LAST-MODIFIED:20210709T222802Z
UID:2852-1639558800-1639564200@connectveterans.org
SUMMARY:Resource Navigation Training
DESCRIPTION:Everyone in our community is invited to attend Military/Veteran Resource Navigation training. This is the signature training developed by the Arizona Coalition for Military Families to equip members of our community to be an open door to connect service members\, veteran and their families to support and resources. Over 5\,000 Arizonans have attended this training. \nThere is no cost for this training and all are welcome! \nRegister: https://2021AcmfNavigationTraining.eventbrite.com \nFor questions or more information\, email Events@ArizonaCoalition.org.
URL:https://connectveterans.org/event/resource-navigation-training-12-2021/
LOCATION:Virtual Event via Zoom
CATEGORIES:Resource Nav Training
ATTACH;FMTTYPE=image/png:https://connectveterans.org/wp-content/uploads/2021/05/doorway.png
ORGANIZER;CN="Arizona Coalition for Military Families":MAILTO:events@arizonzcoalition.org
END:VEVENT
BEGIN:VEVENT
DTSTART;TZID=America/Phoenix:20211117T090000
DTEND;TZID=America/Phoenix:20211117T103000
DTSTAMP:20260423T063307
CREATED:20210709T215543Z
LAST-MODIFIED:20210709T222733Z
UID:2850-1637139600-1637145000@connectveterans.org
SUMMARY:Resource Navigation Training
DESCRIPTION:Everyone in our community is invited to attend Military/Veteran Resource Navigation training. This is the signature training developed by the Arizona Coalition for Military Families to equip members of our community to be an open door to connect service members\, veteran and their families to support and resources. Over 5\,000 Arizonans have attended this training. \nThere is no cost for this training and all are welcome! \nRegister: https://2021AcmfNavigationTraining.eventbrite.com \nFor questions or more information\, email Events@ArizonaCoalition.org.
URL:https://connectveterans.org/event/resource-navigation-training-11-2021/
LOCATION:Virtual Event via Zoom
CATEGORIES:Resource Nav Training
ATTACH;FMTTYPE=image/png:https://connectveterans.org/wp-content/uploads/2021/05/doorway.png
ORGANIZER;CN="Arizona Coalition for Military Families":MAILTO:events@arizonzcoalition.org
END:VEVENT
BEGIN:VEVENT
DTSTART;TZID=America/Phoenix:20211115T080000
DTEND;TZID=America/Phoenix:20220117T170000
DTSTAMP:20260423T063307
CREATED:20211101T185409Z
LAST-MODIFIED:20211101T185409Z
UID:3753-1636963200-1642438800@connectveterans.org
SUMMARY:AZNext - Arizona State University
DESCRIPTION:Closing the Skills Gap to Build the Future Workforce\nAZNext is a training program designed to create a bold\, innovative\, and sustaining workforce development ecosystem that addresses the need for more skilled workers in IT\, cybersecurity\, and advanced manufacturing roles in Arizona and across the U.S. \nProvided at no cost to the participant. \nAZNext’s International Institute of Business Analysis (IIBA) Entry Certificate in Business Analysis (ECBA) Program is open for enrollment. You’ll learn the core knowledge needed in order to pass the IIBA Entry Certificate in Business Analysis (ECBA) exam. The certificate credential is required by many employers who are seeking to fulfill IT Business Analyst roles within their organizations. IT Business Analysts bridge the technical and business sides of the organization to design\, develop and deploy digital technologies. \nWho Is This Course Designed For?\nProgram is accessible to anyone with an undergraduate degree (any discipline) or those who are in the senior year of their degree program. \nProgram Timeline\nThe program consists of 10 weeks of faculty-facilitated instruction including readings\, exercises\, and labs. A weekly online live lecture including industry professionals will discuss each week’s topics.\n• Week 1 – Tech in Business\n• Week 2 – Processes and Context\n• Week 3 – Requirements\n• Week 4 – Projects\n• Week 5 – Change and Risk\n• Week 6 – Agile Fundamentals\n• Week 7 – Business Modeling Fundamentals\n• Week 8 – Validating and Verifying Business Models\n• Week 8 – Developing Future State Business Model\n• Week 10 – IIBA Exam Prep/Career Development \nParticipants will contextualize what they are learning through relevant engagements with working business professionals. \nWhat You Will Receive\nUpon exam passage (cost covered by AZNext)\, participants will receive an IIBA Entry Certificate in Business Analysis. In addition\, participants will have access to AZNext’s network of industry partners for potential job placement. \nAdmission Requirements\nParticipants must be:\n• 17 years of age or older\n• A high school or GED graduate\n• Eligible to work in the U.S.\n• Interested in technology and project management \nApply at bit.ly/AZNextApply \nLearn More at wpcarey.asu.edu/aznext \nQuestions? Email AZNext@asu.edu
URL:https://connectveterans.org/event/aznext-arizona-state-university/
LOCATION:Virtual Event via Zoom
CATEGORIES:Career Nav
END:VEVENT
BEGIN:VEVENT
DTSTART;TZID=America/Phoenix:20211105T100000
DTEND;TZID=America/Phoenix:20211105T113000
DTSTAMP:20260423T063307
CREATED:20211006T161558Z
LAST-MODIFIED:20211006T161558Z
UID:3372-1636106400-1636111800@connectveterans.org
SUMMARY:Be Connected Faith Network Quarterly Meeting
DESCRIPTION:Wondering how you and your faith community could more fully support military families in your congregation and community? \nJoin us for the inaugural Faith Network quarterly meeting. We equip faith community members to broaden their support for Military/Veterans and their families by: \nEducating. Connecting. Encouraging. Inspiring You to Act. \nClergy and community members are invited to attend this inaugural Be Connected Faith Network Quarterly Meeting to learn how the faith community can make a big difference for military-connected Arizonians! \nFeatured Speaker: \nCharles Brown\, Executive Director Franciscan Renewal Center \nPresentation:  \n“Military/Veteran Ministry: How we got started\, what it means for us and its impact” \nFriday\, November 5 \n10:00 – 11:30 AM MST \nVirtual Event Via Zoom \nRegister at https://bit.ly/BCFNMeeting  \nQuestions? Contact Kathy Gallowitz at kathy@arizonacoalition.org or 602-753-8802 ext. 710
URL:https://connectveterans.org/event/bcfnmeeting/
LOCATION:Virtual Event via Zoom
ATTACH;FMTTYPE=image/png:https://connectveterans.org/wp-content/uploads/2021/10/Sub-Branding-07.png
ORGANIZER;CN="Arizona Coalition for Military Families":MAILTO:events@arizonzcoalition.org
END:VEVENT
BEGIN:VEVENT
DTSTART;TZID=America/Phoenix:20211029T100000
DTEND;TZID=America/Phoenix:20211029T113000
DTSTAMP:20260423T063307
CREATED:20210709T222152Z
LAST-MODIFIED:20210805T174624Z
UID:2854-1635501600-1635507000@connectveterans.org
SUMMARY:Arizona Veteran Support Campus Training
DESCRIPTION:Staff and faculty of current and prospective Arizona Veteran Support Campuses are invited to participate in no-cost ongoing training focused on military/veteran culture and related topics. \nAVSCs are required to have key staff attend Military Cultural Awareness training. All Veteran Resource Center employees must attend. Overall 10% of all employees must participate in this or online\, asynchronous training. 25% of trained employees must be academic faculty members. \nRegister at https://avsctraining.eventbrite.com\nFor questions or more information\, email Events@ArizonaCoalition.org.
URL:https://connectveterans.org/event/arizona-veteran-support-campus-training-10-2021/
LOCATION:Virtual Event via Zoom
CATEGORIES:AVSC
ATTACH;FMTTYPE=image/png:https://connectveterans.org/wp-content/uploads/2021/04/Higher-Education.png
ORGANIZER;CN="Arizona Coalition for Military Families":MAILTO:events@arizonzcoalition.org
END:VEVENT
BEGIN:VEVENT
DTSTART;TZID=America/Phoenix:20211027T090000
DTEND;TZID=America/Phoenix:20211027T103000
DTSTAMP:20260423T063307
CREATED:20210709T215405Z
LAST-MODIFIED:20210709T222702Z
UID:2847-1635325200-1635330600@connectveterans.org
SUMMARY:Resource Navigation Training
DESCRIPTION:Everyone in our community is invited to attend Military/Veteran Resource Navigation training. This is the signature training developed by the Arizona Coalition for Military Families to equip members of our community to be an open door to connect service members\, veteran and their families to support and resources. Over 5\,000 Arizonans have attended this training. \nThere is no cost for this training and all are welcome! \nRegister: https://2021AcmfNavigationTraining.eventbrite.com \nFor questions or more information\, email Events@ArizonaCoalition.org.
URL:https://connectveterans.org/event/resource-navigation-training-10-2021/
LOCATION:Virtual Event via Zoom
CATEGORIES:Resource Nav Training
ATTACH;FMTTYPE=image/png:https://connectveterans.org/wp-content/uploads/2021/05/doorway.png
ORGANIZER;CN="Arizona Coalition for Military Families":MAILTO:events@arizonzcoalition.org
END:VEVENT
BEGIN:VEVENT
DTSTART;TZID=America/Phoenix:20211021T080000
DTEND;TZID=America/Phoenix:20211021T123000
DTSTAMP:20260423T063307
CREATED:20210922T195627Z
LAST-MODIFIED:20210922T195627Z
UID:3347-1634803200-1634819400@connectveterans.org
SUMMARY:Intimate Partner Violence (IVP) 1st Annual Summit
DESCRIPTION:VISN 22 – Intimate Partner Violence Assistance Program (IPVAP) Domestic Violence Awareness Month (DVAM) 1st Annual Summit \nJoin us to build awareness about the Veteran’s experience of intimate partner violence and how we can work together to help support healthy relationships and provide important resources! \nThursday\, October 21 \n8:00 AM – 12:30 PM MST \nFeatured Speakers: \n\n\n\nVeteran Roweena Arasah: National Coalition Against Domestic Violence Speakers Bureau\nJosephine Ridley: The Intersection between Race and Intimate Partner Violence\nGwen Packard & Jacqueline Campbell: ourCircle App\nNational Domestic Violence Hotline\nVISN 22 IPVAP Coordinators Panel\n\n\n\nRegister Today! \nDownload the Summit Flyer
URL:https://connectveterans.org/event/ivpsummit/
LOCATION:Virtual Event via Zoom
END:VEVENT
BEGIN:VEVENT
DTSTART;TZID=America/Phoenix:20211020T083000
DTEND;TZID=America/Phoenix:20211020T113000
DTSTAMP:20260423T063307
CREATED:20210510T124407Z
LAST-MODIFIED:20210831T185613Z
UID:2530-1634718600-1634729400@connectveterans.org
SUMMARY:2021 Mental Health Summit
DESCRIPTION:Please join us for the 2nd annual virtual summit focused on Arizona’s 500\,000+ service members\, veterans\, their families and communities.\n  \n\n\n\n\n\n\n\n\n\n\n\nThe summit provides the opportunity to communicate with the VA and Be Connected leadership\, learn about an array of topics focused on health and wellbeing\, and connect to what is happening statewide and regionally. Everyone with an interest in and concern about the mental health and wellness of our military\, veteran and family population is invited to attend the event. \n  \nWednesday\, October 20\, 2021 \n9:00am-11:30am \nThis event will be held in a virtual conference center. \nThe conference room will open at 8:30 AM MST for attendees. \n  \nThis year we will focus our efforts on listening to you and hearing your concerns. We have created a form for you to provide the questions you want the VA leaders to answer. This is a special opportunity for you to connect with VA and community leadership and collaborate on solutions. \nAttendees are invited to complete this short pre-event form by 9/30. The VA directors and partners will respond to some of the pre-submitted questions from the registrants during the event. \n\n\nSign up for this virtual at https://bit.ly/Oct20Summit and submit your questions at https://bit.ly/AsktheVA. There is no cost to attend.\n  \nFeatured speakers include:\n\n\n\nMichael Fisher\, VISN 22\, Network Director \nAlyshia Smith\, Central Arizona VA Healthcare System\, Director \nSteve Sample\, Northern Arizona VA Healthcare System\, Director \nJennifer Gutowski\, Southern Arizona VA Healthcare System\, Director \nWanda Wright\, AZ Department of Veterans Services\, Director \n\n\n\n  \nView/Download the Summit Flyer \nQuestions? Please email events@arizonacoaliton.org
URL:https://connectveterans.org/event/2021-mental-health-summit/
LOCATION:Virtual Conference Center
CATEGORIES:Summit
ATTACH;FMTTYPE=image/png:https://connectveterans.org/wp-content/uploads/2021/03/footer-logo-1-e1630345332586.png
ORGANIZER;CN="Arizona Coalition for Military Families":MAILTO:events@arizonzcoalition.org
END:VEVENT
BEGIN:VEVENT
DTSTART;TZID=America/Phoenix:20211019T160000
DTEND;TZID=America/Phoenix:20211019T173000
DTSTAMP:20260423T063307
CREATED:20211006T162456Z
LAST-MODIFIED:20211006T162641Z
UID:3378-1634659200-1634664600@connectveterans.org
SUMMARY:Veteran Listening Session
DESCRIPTION:Be Connected invites you to join us for an informal\, open discussion regarding the needs of veterans and their families in your community. We are interested in hearing from veterans with a variety of backgrounds and experiences. Your input will help shape future veterans’ programs and resources in your area. \n  \nCOTTONWOOD\, AZ \nOctober 19\, 2021 | 1600 – 1730 MST \nA light dinner will be provided. Location will be emailed after registration. \n  \nSome of the topics we will explore include: \n\nWhat challenges do veterans face daily?\nWhat can cause a veteran to isolate\, feel alone\, and hopeless?\nAs experts in your community\, what are some additional needs or resources for veterans in the area?\nHow equipped are you and others in your community to help your fellow veterans?\nWhat would make you feel more equipped?\n\nTo thank you for your time\, all participants will receive a $35 WalMart gift card at the conclusion of the session. \nNote: The session will be audio recorded and participants will sign a release to use their input in developing veteran programs. No identifiable information (name\, etc.) will be retained nor included in any materials after the listening session. \n  \nRegister by 10/14 at https://form.jotform.com/211876757403058 \nQuestions? Email becket@arizonacoalition.org
URL:https://connectveterans.org/event/veteran-listening-session/
ATTACH;FMTTYPE=image/png:https://connectveterans.org/wp-content/uploads/2021/05/Be-Connected-CEV_Vertical-Regular-Font.png
END:VEVENT
BEGIN:VEVENT
DTSTART;TZID=America/Phoenix:20211008T140000
DTEND;TZID=America/Phoenix:20211008T153000
DTSTAMP:20260423T063307
CREATED:20210908T230116Z
LAST-MODIFIED:20210916T215928Z
UID:3275-1633701600-1633707000@connectveterans.org
SUMMARY:Mohave Community Leadership Conference
DESCRIPTION:You are invited to join the leadership of the Arizona Coalition for Military Families\, the Arizona Department of Veterans’ Services and Northern Arizona VA Health Center for an important conversation about Veterans and their families in Mohave County. \nOctober 8th\, 2:00 PM -3:30 PM MST  \nLake Havasu Community College  \n1977  West Acoma Blvd.  \nLake Havasu City\, AZ 86403 \nUsing the latest data models and feedback received from local veteran focus groups\, State and VA Leadership would like to increase the collaboration to find solutions to: \n\nThe challenges veterans face daily\nReduce the feelings of isolation and hopelessness\nAdd to the resources available to Mohave County Veterans\nIncrease the number of Be Connected Partner Organizations\n\nThis event will follow COVID-19 protocols for attendees’ safety\, including social distancing and required face masks. \nRegister for the event at: https://bit.ly/21MohaveLC \nView/Download Event Flyer \nQuestions? Email events@arizonacoaltion.org
URL:https://connectveterans.org/event/21mohavelc/
LOCATION:1977  W. Acoma Blvd.   Lake Havasu City\, AZ 86403\, 1977 W. Acoma Blvd.\, Lake Havasu City\, AZ\, 86403\, United States
ATTACH;FMTTYPE=image/png:https://connectveterans.org/wp-content/uploads/2021/04/BeConnected_logo_vertical_slogan-copy.png
END:VEVENT
BEGIN:VEVENT
DTSTART;TZID=America/Phoenix:20210930T090000
DTEND;TZID=America/Phoenix:20210930T113000
DTSTAMP:20260423T063307
CREATED:20210820T194956Z
LAST-MODIFIED:20210909T181643Z
UID:3084-1632992400-1633001400@connectveterans.org
SUMMARY:Career Navigation Plus
DESCRIPTION:Expanding Career Opportunities for Minority Veterans and Women Veterans in Arizona \nPROGRAM LAUNCH \nThursday\, September 30\, 2021 | 9:00 – 11:30 AM MST \nAttend virtually or on-site in locations statewide \nWorkforce stakeholders are invited to the program launch of Career Navigation Plus. Hear from project partners\, learn how Minority Veteran and Women Veteran career seekers can benefit from this program\, and learn how to nominate career seekers. \nCareer Navigation Plus program participants will receive: \n• $100 toward essential needs upon enrollment (e.g. gas\, food\, utility bill\, etc.) \n• Personalized resource review \n• Career navigation assessment \n• Ongoing career navigation support\, training and resources for career readiness and placement \n• $150 toward essential needs upon program completion \nThere is space for 100 Veterans in this program. Nominations for program participation will be accepted through December 15 or when the program is at capacity. Veterans can nominate themselves or be nominated by workforce stakeholders and others in the community. \nDownload the program’s printable flyer here. \nRegister for the event at https://bit.ly/BCCNPlus \nNominate yourself or someone you know: https://form.jotform.com/212304463975154 \nHave questions\, need help enrolling or ﬁnding a location for the launch event? Email events@arizonacoalition.org or call 866-4AZ-VETS (429-8387).
URL:https://connectveterans.org/event/career-navigation-plus/
LOCATION:Virtual Event via Zoom
CATEGORIES:Career Nav
ATTACH;FMTTYPE=image/png:https://connectveterans.org/wp-content/uploads/2021/08/EventBrite-01.png
ORGANIZER;CN="Arizona Coalition for Military Families":MAILTO:events@arizonzcoalition.org
END:VEVENT
BEGIN:VEVENT
DTSTART;TZID=America/Phoenix:20210929T090000
DTEND;TZID=America/Phoenix:20210929T103000
DTSTAMP:20260423T063307
CREATED:20210709T215228Z
LAST-MODIFIED:20210709T222617Z
UID:2845-1632906000-1632911400@connectveterans.org
SUMMARY:Resource Navigation Training
DESCRIPTION:Everyone in our community is invited to attend Military/Veteran Resource Navigation training. This is the signature training developed by the Arizona Coalition for Military Families to equip members of our community to be an open door to connect service members\, veteran and their families to support and resources. Over 5\,000 Arizonans have attended this training. \nThere is no cost for this training and all are welcome! \nRegister: https://2021AcmfNavigationTraining.eventbrite.com \nFor questions or more information\, email Events@ArizonaCoalition.org.
URL:https://connectveterans.org/event/resource-navigation-training-09-2021/
LOCATION:Virtual Event via Zoom
CATEGORIES:Resource Nav Training
ATTACH;FMTTYPE=image/png:https://connectveterans.org/wp-content/uploads/2021/05/doorway.png
ORGANIZER;CN="Arizona Coalition for Military Families":MAILTO:events@arizonzcoalition.org
END:VEVENT
BEGIN:VEVENT
DTSTART;TZID=America/Phoenix:20210825T160000
DTEND;TZID=America/Phoenix:20210825T170000
DTSTAMP:20260423T063307
CREATED:20210813T232309Z
LAST-MODIFIED:20210813T232309Z
UID:3032-1629907200-1629910800@connectveterans.org
SUMMARY:Connecting Arizona
DESCRIPTION:Arizona Coalition for Military Families “Be Connected” Career Navigation Program Information Session hosted by the Hiring Our Heroes Military Spouse Professional Network \nJoin Hiring our Heroes Military Spouse Professional Network Arizona Lead and Shelby Alavekios – a proud military spouse\, workforce professional and lead of the Military Spouse Initiative – for a virtual fireside chat that you do not want to miss! \nShelby will explain how military spouses\, partners\, and family members can get ahead in the job market by connecting with the right resource at the right time. \nRegister at https://bit.ly/Aug25Event
URL:https://connectveterans.org/event/connecting-arizona-2021/
END:VEVENT
BEGIN:VEVENT
DTSTART;TZID=America/Phoenix:20210825T090000
DTEND;TZID=America/Phoenix:20210825T103000
DTSTAMP:20260423T063307
CREATED:20210709T214915Z
LAST-MODIFIED:20210709T222553Z
UID:2843-1629882000-1629887400@connectveterans.org
SUMMARY:Resource Navigation Training
DESCRIPTION:Everyone in our community is invited to attend Military/Veteran Resource Navigation training. This is the signature training developed by the Arizona Coalition for Military Families to equip members of our community to be an open door to connect service members\, veteran and their families to support and resources. Over 5\,000 Arizonans have attended this training. \nThere is no cost for this training and all are welcome! \nRegister: https://2021AcmfNavigationTraining.eventbrite.com \nFor questions or more information\, email Events@ArizonaCoalition.org.
URL:https://connectveterans.org/event/resource-navigation-training-08-2021/
LOCATION:Virtual Event via Zoom
CATEGORIES:Resource Nav Training
ATTACH;FMTTYPE=image/png:https://connectveterans.org/wp-content/uploads/2021/05/doorway.png
ORGANIZER;CN="Arizona Coalition for Military Families":MAILTO:events@arizonzcoalition.org
END:VEVENT
BEGIN:VEVENT
DTSTART;TZID=America/Phoenix:20210730T100000
DTEND;TZID=America/Phoenix:20210730T113000
DTSTAMP:20260423T063307
CREATED:20210625T003041Z
LAST-MODIFIED:20210625T003117Z
UID:2679-1627639200-1627644600@connectveterans.org
SUMMARY:Arizona Veteran Supportive Campus Training
DESCRIPTION:  \n\n\n\n\nTraining is provided at no cost for schools that have or are working to earn the Arizona Veteran Supportive Campus designation from ADVS.\n\n\n\n\n\n\nAbout this event\n\n\nStaff and faculty of current and prospective Arizona Veteran Supportive Campuses are invited to participate in no-cost ongoing training focused on military/veteran culture and related topics. \nPlease select the training date you prefer. A Zoom link will be sent closer to the event. \nTraining dates (choose one): \nFriday\, April 30\, 2021 – 1:00pm-2:30pm \nFriday\, July 30\, 2021 – 10:00am-11:30am \nFriday\, October 29\, 2021 – 10:00am-11:30am \nFriday\, January 28\, 2022 -10:00am-11:30am \nFriday\, April 29\, 2022 – 1:00pm-2:30pm \nFriday\, July 29\, 2022 – 10:00am-11:30am \nFriday\, October 28\, 2022 – 10:00am-11:30am \nAVSCs are required to have key staff attend Military Cultural Awareness training. All Veteran Resource Center employees must attend. Overall 10% of all employees must participate in this or online\, asynchronous training. 25% of trained employees must be academic faculty members. \nFor questions or more information\, email Events@ArizonaCoalition.org.
URL:https://connectveterans.org/event/avsc-training/
LOCATION:Virtual Event via Zoom
ORGANIZER;CN="Arizona Coalition for Military Families":MAILTO:events@arizonzcoalition.org
END:VEVENT
BEGIN:VEVENT
DTSTART;TZID=America/Phoenix:20210728T090000
DTEND;TZID=America/Phoenix:20210728T103000
DTSTAMP:20260423T063307
CREATED:20210513T194819Z
LAST-MODIFIED:20210709T222524Z
UID:2549-1627462800-1627468200@connectveterans.org
SUMMARY:Resource Navigation Training
DESCRIPTION:Everyone in our community is invited to attend Military/Veteran Resource Navigation training. This is the signature training developed by the Arizona Coalition for Military Families to equip members of our community to be an open door to connect service members\, veteran and their families to support and resources. Over 5\,000 Arizonans have attended this training. \nThere is no cost for this training and all are welcome! \nRegister: https://2021AcmfNavigationTraining.eventbrite.com \nFor questions or more information\, email Events@ArizonaCoalition.org.
URL:https://connectveterans.org/event/resource-navigation-training-july-2021/
LOCATION:Virtual Event via Zoom
CATEGORIES:Resource Nav Training
ATTACH;FMTTYPE=image/png:https://connectveterans.org/wp-content/uploads/2021/05/doorway.png
ORGANIZER;CN="Arizona Coalition for Military Families":MAILTO:events@arizonzcoalition.org
END:VEVENT
BEGIN:VEVENT
DTSTART;TZID=America/Phoenix:20210623T090000
DTEND;TZID=America/Phoenix:20210623T103000
DTSTAMP:20260423T063307
CREATED:20210510T124704Z
LAST-MODIFIED:20210510T124704Z
UID:2534-1624438800-1624444200@connectveterans.org
SUMMARY:Resource Navigation Training
DESCRIPTION:Everyone in our community is invited to attend Military/Veteran Resource Navigation training. This is the signature training developed by the Arizona Coalition for Military Families to equip members of our community to be an open door to connect service members\, veteran and their families to support and resources. Over 5\,000 Arizonans have attended this training. \nThere is no cost for this training and all are welcome! \nRegister: https://2021AcmfNavigationTraining.eventbrite.com
URL:https://connectveterans.org/event/resource-navigation-training-2/
LOCATION:Virtual Event via Zoom
CATEGORIES:Resource Nav Training
ATTACH;FMTTYPE=image/png:https://connectveterans.org/wp-content/uploads/2021/05/doorway.png
ORGANIZER;CN="Arizona Coalition for Military Families":MAILTO:events@arizonzcoalition.org
END:VEVENT
BEGIN:VEVENT
DTSTART;TZID=America/Phoenix:20210609T093000
DTEND;TZID=America/Phoenix:20210609T120000
DTSTAMP:20260423T063307
CREATED:20210510T123327Z
LAST-MODIFIED:20210510T173819Z
UID:2525-1623231000-1623240000@connectveterans.org
SUMMARY:Mil/Vet Faith-Based Summit
DESCRIPTION:Wednesday\, June 9\, 2021 | 9:30 AM – 12:00 PM\nYou are invited to an online summit hosted by the Arizona Coalition for Military Families\, Arizona Department of Veterans’ Services and Be Connected program\, in partnership with the Governor’s Office of Youth\, Faith and Family. Join faith-based communities and members from around Arizona as we strengthen faith-based support for all service members\, veterans and their families. \nFeatured Speakers:\nMaria Christina Fuentes\nDirector\, Governor’s Office of Youth\, Faith and Family\nWanda Wright\, Col (Ret.)\, MBA\, MPA\, MEd\nDirector\, Arizona Department of Veterans’ Services\nMike Wold\nRegional Coordinator\, Institute for Healing of Memories North America\nThomas Winkel\, MA\, LPC\, NCC\nDirector\, Arizona Coalition for Military Families \nThere is no cost to attend this summit. Please register online by June 4th: \nwww.BeConnectedFaithNetwork.eventbrite.com
URL:https://connectveterans.org/event/mil-vet-faith-based-summit/
LOCATION:Virtual Conference Center
CATEGORIES:Summit
ATTACH;FMTTYPE=image/jpeg:https://connectveterans.org/wp-content/uploads/2021/05/Faith-Summit-2021-Header.jpg
ORGANIZER;CN="Arizona Coalition for Military Families":MAILTO:events@arizonzcoalition.org
END:VEVENT
BEGIN:VEVENT
DTSTART;TZID=America/Phoenix:20210512T090000
DTEND;TZID=America/Phoenix:20210512T103000
DTSTAMP:20260423T063307
CREATED:20210210T150037Z
LAST-MODIFIED:20210516T125129Z
UID:2521-1620810000-1620815400@connectveterans.org
SUMMARY:Resource Navigation Training
DESCRIPTION:Everyone in our community is invited to attend Military/Veteran Resource Navigation training. This is the signature training developed by the Arizona Coalition for Military Families to equip members of our community to be an open door to connect service members\, veteran and their families to support and resources. Over 5\,000 Arizonans have attended this training. \nThere is no cost for this training and all are welcome! \nRegister: https://2021AcmfNavigationTraining.eventbrite.com
URL:https://connectveterans.org/event/resource-navigation-training/
LOCATION:Virtual Event via Zoom
CATEGORIES:Resource Nav Training
ATTACH;FMTTYPE=image/png:https://connectveterans.org/wp-content/uploads/2021/05/doorway.png
ORGANIZER;CN="Arizona Coalition for Military Families":MAILTO:events@arizonzcoalition.org
END:VEVENT
BEGIN:VEVENT
DTSTART;TZID=America/Phoenix:20210421T083000
DTEND;TZID=America/Phoenix:20210422T120000
DTSTAMP:20260423T063307
CREATED:20210301T150016Z
LAST-MODIFIED:20230731T000724Z
UID:2513-1618993800-1619092800@connectveterans.org
SUMMARY:11th Annual Statewide Symposium
DESCRIPTION:The 11th Annual Statewide Symposium in Support of Service Members\, Veterans & Their Families looks different this year. The 11th annual event is being held virtually for the first time (after being canceled in 2020). \nApril 21 & 22\, 2021 \n8:30 – 12:00 each day \nThanks to our event partners\, including the Arizona Department of Veterans’ Services\, U.S. Department of Veterans Affairs\, USAA & APS\, there is no registration fee for the event\, which will be held in our new virtual conference Center. \nNote: All sessions were recorded and are available here: https://www.acmfeventcenter.org/agenda
URL:https://connectveterans.org/event/2021-statewide-symposium/
LOCATION:Virtual Conference Center
CATEGORIES:Symposium
ATTACH;FMTTYPE=image/png:https://connectveterans.org/wp-content/uploads/2021/05/2021-Symposium-Eventbrite-Header.png
ORGANIZER;CN="Arizona Coalition for Military Families":MAILTO:events@arizonzcoalition.org
END:VEVENT
END:VCALENDAR