BEGIN:VCALENDAR
VERSION:2.0
PRODID:-//Be Connected - ECPv6.15.20//NONSGML v1.0//EN
CALSCALE:GREGORIAN
METHOD:PUBLISH
X-ORIGINAL-URL:https://connectveterans.org
X-WR-CALDESC:Events for Be Connected
REFRESH-INTERVAL;VALUE=DURATION:PT1H
X-Robots-Tag:noindex
X-PUBLISHED-TTL:PT1H
BEGIN:VTIMEZONE
TZID:America/Phoenix
BEGIN:STANDARD
TZOFFSETFROM:-0700
TZOFFSETTO:-0700
TZNAME:MST
DTSTART:20270101T000000
END:STANDARD
END:VTIMEZONE
BEGIN:VEVENT
DTSTART;VALUE=DATE:20281013
DTEND;VALUE=DATE:20281014
DTSTAMP:20260423T045844
CREATED:20240825T200238Z
LAST-MODIFIED:20240825T200238Z
UID:13796-1855008000-1855094399@connectveterans.org
SUMMARY:U.S. Navy Birthday
DESCRIPTION:This annual observance commemorates the establishment of the United States Navy on October 13\, 1775\, when the Continental Congress authorized a few small ships. This day recognizes the courage and commitment of the Navy’s sailors and their pivotal role in defending America’s interests on the high seas. The U.S. Navy is a powerful force capable of projecting American interests across the world. It is responsible for protecting American interests at sea\, maintaining freedom of navigation\, conducting maritime operations\, and promoting stability and security in international waters. The observance is an opportunity to honor the proud history and traditions of the Navy\, its values of Honor\, Courage\, and Commitment\, and to express gratitude for the service and sacrifice of its sailors\, both past and present. Learn more at https://www.navy.mil/
URL:https://connectveterans.org/event/u-s-navy-birthday-4/
CATEGORIES:Holiday
END:VEVENT
BEGIN:VEVENT
DTSTART;TZID=America/Phoenix:20281026T080000
DTEND;TZID=America/Phoenix:20281026T170000
DTSTAMP:20260423T045844
CREATED:20240825T200616Z
LAST-MODIFIED:20240825T200616Z
UID:13804-1856160000-1856192400@connectveterans.org
SUMMARY:National Day of the Deployed
DESCRIPTION:The National Day of the Deployed is observed on October 26 to honor and show appreciation for the service and sacrifices of deployed military personnel. The day’s observance works to raise awareness of the important role that deployed service members play in defending the country and protecting America’s interests abroad\, as well as the sacrifices they and their families make. Deployments can be challenging\, and service members often face prolonged periods of separation from their loved ones\, exposure to danger and harsh conditions\, and other hardships. The significance of the National Day of the Deployed lies in its recognition of the sacrifices and contributions of deployed service members\, as well as the need to provide them with support and resources to help them fulfill their mission and return safely to their families. The day is marked by various activities and events that honor and support deployed service members and their families. It is an opportunity to show gratitude and support for the essential work that deployed service members do and to advocate for policies and initiatives that support their well-being and the well-being of their families.
URL:https://connectveterans.org/event/national-day-of-the-deployed-4/
CATEGORIES:Holiday
END:VEVENT
BEGIN:VEVENT
DTSTART;VALUE=DATE:20281101
DTEND;VALUE=DATE:20281201
DTSTAMP:20260423T045844
CREATED:20240825T201005Z
LAST-MODIFIED:20240825T201005Z
UID:13811-1856649600-1859241599@connectveterans.org
SUMMARY:Military Family Month
DESCRIPTION:Military Family Month is observed during November to honor and recognize the sacrifices and contributions of military families. The observance serves to raise awareness of the unique challenges that military families face and to show appreciation for their resilience and dedication. Military families often make significant sacrifices in support of their service members\, including frequent relocations\, long separations\, and challenges related to military life. The month is marked by events and activities that honor and support military families\, provide education and resources for them\, and promote advocacy on their behalf. It is an opportunity to show gratitude and support for the essential work that military families do and to advocate for policies and initiatives that support their well-being and the well-being of their service members.
URL:https://connectveterans.org/event/military-family-month-4/
CATEGORIES:Holiday
END:VEVENT
BEGIN:VEVENT
DTSTART;VALUE=DATE:20281101
DTEND;VALUE=DATE:20281201
DTSTAMP:20260423T045844
CREATED:20240825T201648Z
LAST-MODIFIED:20240825T201648Z
UID:13820-1856649600-1859241599@connectveterans.org
SUMMARY:Warrior Care Month
DESCRIPTION:Warrior Care Month is an annual observance in November that honors and recognizes the sacrifices of the wounded\, ill\, and injured service members and their families. It is a time to raise awareness of the challenges that these individuals and families face and to show appreciation for their strength\, resilience\, and commitment to service. The month also highlights the importance of providing comprehensive support and care to these individuals to help them heal\, recover\, and reintegrate into their communities. Warrior Care Month is a reminder that we have a responsibility to take care of those who have sacrificed so much for our country.
URL:https://connectveterans.org/event/warrior-care-month-3/
CATEGORIES:Holiday
END:VEVENT
BEGIN:VEVENT
DTSTART;VALUE=DATE:20281107
DTEND;VALUE=DATE:20281108
DTSTAMP:20260423T045844
CREATED:20241230T184515Z
LAST-MODIFIED:20241230T184515Z
UID:15766-1857168000-1857254399@connectveterans.org
SUMMARY:Battle of Fallujah (Second)
DESCRIPTION:The Second Battle of Fallujah\, codenamed Operation Phantom Fury\, was a major U.S.-led offensive during the Iraq War that took place from November 7 to December 23\, 2004. This operation involved American\, Iraqi\, and British forces targeting insurgent strongholds in Fallujah\, resulting in intense urban combat. The battle was one of the largest engagements of the Iraq War and significantly reduced insurgent activity in the region. \nLearn More: \n\n10 Year Reflection (2014): Operation Phantom Fury\n15 Year Reflection (2019): Army.mil\n20 Year Reflection – Firsthand Accounts (2024): Marines.mil\n20 Year Reflection by Willy Buhl (2024): DVIDS\, U.S. DoD\n20 Years Later – Firsthand Accounts (2024): Marines.mil\nAaron Cunningham Firsthand Account: American Veterans Center\nCase Study – Fallujah II: Modern War Institute\nCasualty Report: Defense Casualty Analysis System\nFallujah: U.S. Marines in Battle: USMCU.edu\nHistorical Footage November 26\, 2004: Marines.mil\nIraq War: Wikipedia Entry\nRobert Day Firsthand Account: American Veterans Center\nShadows of Fallujah Firsthand Accounts: The War Horse\nThe Second Battle of Fallujah: Documentary\, Wars of the World\nThomas Brennan Firsthand Account (Audio)\nThomas Brennan Firsthand Account: Mother Jones\n\nSupport is Available\nReflecting on significant moments in U.S. history can evoke strong emotions. If you or someone you know is feeling lonely or facing challenges with mental health\, housing\, employment\, transportation\, healthcare\, veteran benefits\, family issues or any other situation\, we’re here to help. Call the Be Connected support line for service members\, veterans\, and their families at 866-4AZ-VETS (866-429-8387)\, available Monday through Friday\, 8 AM to 5 PM MT. For urgent mental health crises\, contact the Veterans Crisis Line by dialing 9-8-8 (veterans – press 1) or text 838255\, and for life-threatening emergencies\, call 9-1-1. This information is provided as a public service and is not intended to replace advice or care from licensed professional providers.
URL:https://connectveterans.org/event/battle-of-fallujah-second/
CATEGORIES:History
END:VEVENT
BEGIN:VEVENT
DTSTART;VALUE=DATE:20281110
DTEND;VALUE=DATE:20281111
DTSTAMP:20260423T045844
CREATED:20240825T202115Z
LAST-MODIFIED:20240825T202115Z
UID:13829-1857427200-1857513599@connectveterans.org
SUMMARY:U.S. Marine Corps Birthday
DESCRIPTION:This annual observance commemorates the establishment of the United States Marine Corps on November 10\, 1775. This day recognizes the bravery and sacrifice of the Marines and their steadfast commitment to defending the nation’s interests\, both at home and abroad. The Marine Corps is a highly trained and disciplined force capable of conducting a wide range of military operations\, including amphibious assaults\, ground combat\, and specialized missions. Marines have fought in every major conflict in American history\, and they have earned a reputation as some of the toughest and most dedicated warriors in the world. The core values of the U.S. Marine Corps are Honor\, Courage\, and Commitment. The observance is an opportunity to celebrate the proud traditions and heritage of the Marine Corps and to honor the service and sacrifice of its members\, both past and present. Learn more https://www.marines.com/
URL:https://connectveterans.org/event/u-s-marine-corps-birthday-4/
CATEGORIES:Holiday
END:VEVENT
BEGIN:VEVENT
DTSTART;VALUE=DATE:20281111
DTEND;VALUE=DATE:20281112
DTSTAMP:20260423T045844
CREATED:20240825T202631Z
LAST-MODIFIED:20240825T202631Z
UID:13837-1857513600-1857599999@connectveterans.org
SUMMARY:Veterans Day
DESCRIPTION:Veterans Day is a federal holiday that happens on November 11 each year. Its primary purpose is to honor and express gratitude to all American veterans who have served in the U.S. military\, both in wartime and peacetime. The day has its origins in the aftermath of World War I when it was called Armistice Day to commemorate the end of the war on November 11\, 1918. In 1954\, the holiday was officially renamed Veterans Day to recognize the service of all veterans. Traditionally\, parades\, ceremonies\, and other tributes are held to honor the bravery\, sacrifice\, and patriotism of those who have served their country. Veterans Day has significant cultural and historical significance in the U.S.\, serving as a reminder of the sacrifices made by the military and the importance of recognizing their service and contributions to the nation. \n\n\n\nNOTE: Veterans Day is different than Memorial Day. Memorial Day is meant to remember and honor military personnel who died in the service of their country\, particularly those who died in battle or as a result of a wound sustained in battle. Veterans Day is intended to thank all those who have honorably served in the military – in wartime or peacetime.
URL:https://connectveterans.org/event/veterans-day-5/
CATEGORIES:Holiday
END:VEVENT
BEGIN:VEVENT
DTSTART;VALUE=DATE:20281114
DTEND;VALUE=DATE:20281115
DTSTAMP:20260423T045844
CREATED:20241230T190948Z
LAST-MODIFIED:20241230T190948Z
UID:15774-1857772800-1857859199@connectveterans.org
SUMMARY:Battle of Ia Drang
DESCRIPTION:The Battle of Ia Drang\, fought from November 14 to 18\, 1965\, was the first major engagement between U.S. Army forces and the People’s Army of Vietnam (PAVN) during the Vietnam War. Taking place in Vietnam’s Central Highlands\, the battle comprised two main confrontations at landing zones X-Ray and Albany. At LZ X-Ray\, U.S. forces employed helicopter air mobility and heavy artillery to inflict significant casualties on the PAVN. Conversely\, at LZ Albany\, U.S. troops suffered heavy losses due to a PAVN ambush. The battle demonstrated the effectiveness of air mobility tactics and underscored the challenges of jungle warfare\, setting the stage for future engagements in the conflict. \nLearn More: \n\n50 Year Reflection (2015) Firsthand Accounts: Army.mil\nBattle of Ia Drang: Vietnam Veterans Memorial Fund\nBattle of Ia Drang: Wikipedia Entry\nBruce Crandall\, Medal of Honor Recipient\nCasualty Summary: Defense Casualty Analysis System\nClyde Earnest Savage Firsthand Account: American Veterans Center\nEd Freeman\, Medal of Honor Recipient\nGeorge Forrest Firsthand Account: American Veterans Center\nIa Drang Valley Incident: Defense POW/MIA Accounting Agency\nJoe Galloway and Others Firsthand Accounts\nJon Wallenius Firsthand Account: Vietnam Veterans Memorial Fund\nMedal of Honor Recipients\nTony Nadal Firsthand Account: American Veterans Center\nVietnam War: National Archives\nWalter Marm\, Medal of Honor Recipient\n\nSupport is Available\nReflecting on significant moments in U.S. history can evoke strong emotions. If you or someone you know is feeling lonely or facing challenges with mental health\, housing\, employment\, transportation\, healthcare\, veteran benefits\, family issues or any other situation\, we’re here to help. Call the Be Connected support line for service members\, veterans\, and their families at 866-4AZ-VETS (866-429-8387)\, available Monday through Friday\, 8 AM to 5 PM MT. For urgent mental health crises\, contact the Veterans Crisis Line by dialing 9-8-8 (veterans – press 1) or text 838255\, and for life-threatening emergencies\, call 9-1-1. This information is provided as a public service and is not intended to replace advice or care from licensed professional providers.
URL:https://connectveterans.org/event/battle-of-ia-drang/
CATEGORIES:History
END:VEVENT
BEGIN:VEVENT
DTSTART;VALUE=DATE:20281127
DTEND;VALUE=DATE:20281128
DTSTAMP:20260423T045844
CREATED:20241230T193107Z
LAST-MODIFIED:20241230T193107Z
UID:15782-1858896000-1858982399@connectveterans.org
SUMMARY:Battle of Chosin Reservoir
DESCRIPTION:The Battle of Chosin Reservoir (November 27 – December 13\, 1950) was a pivotal Korean War conflict where 30\,000 United Nations troops\, primarily U.S. Marines\, faced encirclement by approximately 120\,000 Chinese forces in North Korea’s Chosin Reservoir area. Despite harsh winter conditions and being outnumbered\, UN forces executed a fighting withdrawal to the port of Hungnam\, inflicting heavy casualties on Chinese troops. This battle showcased the resilience and determination of UN forces in the face of overwhelming odds. \nLearn More: \n\nBattle of the Chosin: ChosinFew.org\nBruce Farr Interview: WBIR\nCasualty Report: Defense Casualty Analysis System\nFirsthand Accounts: U.S. Marines\nFrozen Chosin: Marines.mil\nHow Military Medics Saved the ‘Chosin Frozen’: Health.mil\nKorean War Chronology: U.S. Army Center of Military History\nKorean War: History.com\nKorean War: National Archives\nKorean War: Wikipedia Entry\nPatrick Finn Firsthand Account: American Veterans Center\nThe Chosin Few Firsthand Accounts: Health.mil\nWilliam Marvin Parks Interview\n\nSupport is Available\nReflecting on significant moments in U.S. history can evoke strong emotions. If you or someone you know is feeling lonely or facing challenges with mental health\, housing\, employment\, transportation\, healthcare\, veteran benefits\, family issues or any other situation\, we’re here to help. Call the Be Connected support line for service members\, veterans\, and their families at 866-4AZ-VETS (866-429-8387)\, available Monday through Friday\, 8 AM to 5 PM MT. For urgent mental health crises\, contact the Veterans Crisis Line by dialing 9-8-8 (veterans – press 1) or text 838255\, and for life-threatening emergencies\, call 9-1-1. This information is provided as a public service and is not intended to replace advice or care from licensed professional providers.
URL:https://connectveterans.org/event/battle-of-chosin-reservoir-4/
CATEGORIES:History
END:VEVENT
BEGIN:VEVENT
DTSTART;VALUE=DATE:20281203
DTEND;VALUE=DATE:20281204
DTSTAMP:20260423T045844
CREATED:20241230T203838Z
LAST-MODIFIED:20241230T203838Z
UID:15813-1859414400-1859500799@connectveterans.org
SUMMARY:Battle of Tora Bora
DESCRIPTION:The Battle of Tora Bora\, fought from December 6 to 17\, 2001\, was a significant military engagement during the early stages of the U.S.-led invasion of Afghanistan. The primary objective was to capture or kill al-Qaeda leader Osama bin Laden\, who was believed to be hiding in the Tora Bora cave complex in eastern Afghanistan. U.S. Special Forces\, along with allied Afghan militias\, launched an assault against entrenched al-Qaeda fighters in the rugged mountainous terrain. Despite intense fighting and heavy bombardment\, bin Laden managed to evade capture. The battle highlighted the challenges of mountain warfare and the limitations of relying on local militias for critical operations. \nLearn More: \n\nBattle of Tora Bora: Wikipedia Entry\nDelta Force’s “Dalton Fury” Interview\, Historical Footage: 60 Minutes (2011)\nGary Berntsen\, CIA Commander\, Interview (Audio): BBC\nThis Day in Army History (Video): AF.mil\n\nSupport is Available\nReflecting on significant moments in U.S. history can evoke strong emotions. If you or someone you know is feeling lonely or facing challenges with mental health\, housing\, employment\, transportation\, healthcare\, veteran benefits\, family issues or any other situation\, we’re here to help. Call the Be Connected support line for service members\, veterans\, and their families at 866-4AZ-VETS (866-429-8387)\, available Monday through Friday\, 8 AM to 5 PM MT. For urgent mental health crises\, contact the Veterans Crisis Line by dialing 9-8-8 (veterans – press 1) or text 838255\, and for life-threatening emergencies\, call 9-1-1. This information is provided as a public service and is not intended to replace advice or care from licensed professional providers.
URL:https://connectveterans.org/event/battle-of-tora-bora/
CATEGORIES:History
END:VEVENT
BEGIN:VEVENT
DTSTART;VALUE=DATE:20281207
DTEND;VALUE=DATE:20281208
DTSTAMP:20260423T045844
CREATED:20240905T175423Z
LAST-MODIFIED:20241230T201426Z
UID:13858-1859760000-1859846399@connectveterans.org
SUMMARY:Pearl Harbor Day of Remembrance
DESCRIPTION:National Pearl Harbor Day of Remembrance is observed on December 7 to honor and remember the lives lost in the surprise attack on Pearl Harbor\, Hawaii\, by the Japanese on December 7\, 1941. The attack resulted in the deaths of more than 2\,400 Americans and led to the United States’ entry into World War II. The day’s observance serves as a solemn reminder of the sacrifices made by those who fought and died during the war and the importance of honoring their memory. The significance of National Pearl Harbor Day of Remembrance lies in its recognition of the courage and resilience of those who served and sacrificed during World War II\, as well as the need to continue to remember and learn from the lessons of that time. The day is marked by ceremonies and events that honor the memory of those who were lost\, paying tribute to the survivors and their families\, and promoting reflection and understanding of the impact of the attack and the war that followed. It is a time to come together as a nation to honor and remember the sacrifice and bravery of those who served during this pivotal moment in our history. \nLearn More: \n\n83 Year Reflection (2024): CPF.Navy.mil\n83 Year Reflection News Coverage (2024): WFAA\nNational Pearl Harbor Remembrance Day Artifacts: National Park Service\nNational Pearl Harbor Remembrance Day: Wikipedia Entry\nObserving National Pearl Harbor Remembrance Day: Army.mil\nPearl Harbor Attack: The National WWII Museum\nRemembering Pearl Harbor: Defense.gov\n\nSupport is Available\nReflecting on significant moments in U.S. history can evoke strong emotions. If you or someone you know is feeling lonely or facing challenges with mental health\, housing\, employment\, transportation\, healthcare\, veteran benefits\, family issues or any other situation\, we’re here to help. Call the Be Connected support line for service members\, veterans\, and their families at 866-4AZ-VETS (866-429-8387)\, available Monday through Friday\, 8 AM to 5 PM MT. For urgent mental health crises\, contact the Veterans Crisis Line by dialing 9-8-8 (veterans – press 1) or text 838255\, and for life-threatening emergencies\, call 9-1-1. This information is provided as a public service and is not intended to replace advice or care from licensed professional providers.
URL:https://connectveterans.org/event/pearl-harbor-day-of-remembrance/
CATEGORIES:History
END:VEVENT
BEGIN:VEVENT
DTSTART;VALUE=DATE:20281210
DTEND;VALUE=DATE:20281211
DTSTAMP:20260423T045844
CREATED:20240905T191326Z
LAST-MODIFIED:20240905T191326Z
UID:13922-1860019200-1860105599@connectveterans.org
SUMMARY:AMVETS Birthday
DESCRIPTION:AMVETS (American Veterans) was founded in 1944 and is open to all individuals who have honorably served in the U.S. military\, including the National Guard and Reserves. With more than 250\,000 members nationwide\, AMVETS is committed to improving the quality of life for veterans\, their families\, and survivors. AMVETS’ mission is to advocate for veterans’ rights\, enhance veterans’ lives\, and support their reintegration into civilian life. The organization has played a significant role in shaping policies that benefit veterans and their communities. AMVETS has provided assistance\, jobs\, and services to veterans for nearly 80 years. A fun fact is that AMVETS presents the prestigious “Silver Helmet Award\,” often referred to as the “Veteran’s Oscar\,” for excellence in various fields. Learn more at https://www.amvets.org/
URL:https://connectveterans.org/event/amvets-birthday/
CATEGORIES:Holiday
END:VEVENT
BEGIN:VEVENT
DTSTART;VALUE=DATE:20281213
DTEND;VALUE=DATE:20281214
DTSTAMP:20260423T045844
CREATED:20240905T175947Z
LAST-MODIFIED:20240905T175947Z
UID:13868-1860278400-1860364799@connectveterans.org
SUMMARY:U.S. National Guard Birthday
DESCRIPTION:This annual observance commemorates the establishment of the National Guard on December 13\, 1636. This day recognizes the important role played by the National Guard in protecting American communities and responding to domestic emergencies. The National Guard serves as the country’s first line of defense in times of domestic emergencies and operates under the authority of both state and federal governments. Its citizen soldiers are often called upon to assist in a wide range of missions\, including disaster response and a vital role in supporting overseas military operations\, with Guard units regularly deploying alongside active-duty forces. The significance of the National Guard lies in its ability to quickly respond to emergencies and provide critical support to civilian authorities in times of crisis. Their dedication and service to the country are invaluable\, and they are a vital asset in protecting America’s communities and ensuring national security.
URL:https://connectveterans.org/event/u-s-national-guard-birthday-6/
CATEGORIES:Holiday
END:VEVENT
BEGIN:VEVENT
DTSTART;VALUE=DATE:20281213
DTEND;VALUE=DATE:20281214
DTSTAMP:20260423T045844
CREATED:20241230T205727Z
LAST-MODIFIED:20241230T205727Z
UID:15826-1860278400-1860364799@connectveterans.org
SUMMARY:Capture of Saddam Hussein
DESCRIPTION:On December 13\, 2003\, during Operation Red Dawn\, U.S. forces captured former Iraqi President Saddam Hussein near his hometown of Tikrit. Hussein was found hiding in a “spider hole” beneath a farmhouse in ad-Dawr. The operation involved approximately 600 soldiers\, including special operations units such as Delta Force and the Intelligence Support Activity (ISA)\, under Task Force 121\, supported by the 1st Brigade Combat Team of the 4th Infantry Division. The capture was a significant milestone in the Iraq War\, marking the end of Hussein’s attempts to evade coalition forces following his regime’s collapse earlier that year. \nLearn More: \n\n10 Year Reflection (2013): Army.mil\nCapture of Saddam Hussein: Wikipedia Entry\nHistorical Footage: 60 Minutes\, December 17\, 2003\nHistorical Footage: NBC News\, December 14\, 2003\nOur Place in History\, Story of Eric Maddox: Defense Intelligence Agency (2013)\nRecounting the Capture: Shawn Ryan Show\n\nSupport is Available\nReflecting on significant moments in U.S. history can evoke strong emotions. If you or someone you know is feeling lonely or facing challenges with mental health\, housing\, employment\, transportation\, healthcare\, veteran benefits\, family issues or any other situation\, we’re here to help. Call the Be Connected support line for service members\, veterans\, and their families at 866-4AZ-VETS (866-429-8387)\, available Monday through Friday\, 8 AM to 5 PM MT. For urgent mental health crises\, contact the Veterans Crisis Line by dialing 9-8-8 (veterans – press 1) or text 838255\, and for life-threatening emergencies\, call 9-1-1. This information is provided as a public service and is not intended to replace advice or care from licensed professional providers.
URL:https://connectveterans.org/event/capture-of-saddam-hussein-4/
CATEGORIES:History
END:VEVENT
BEGIN:VEVENT
DTSTART;VALUE=DATE:20281216
DTEND;VALUE=DATE:20281217
DTSTAMP:20260423T045844
CREATED:20241230T195743Z
LAST-MODIFIED:20241230T195743Z
UID:15794-1860537600-1860623999@connectveterans.org
SUMMARY:Battle of the Bulge
DESCRIPTION:The Battle of the Bulge\, also known as the Ardennes Offensive\, was a major German assault during World War II\, fought in the Ardennes Forest from December 16\, 1944\, to January 25\, 1945. Over one million German soldiers\, including 200\,000 assault troops\, faced 700\,000 Allied troops\, including General Patton’s 3rd Army. The battle\, conducted in harsh winter conditions with cold\, snow\, and dense fog\, saw thousands of Allied soldiers suffering frostbite and trench foot\, with many wounded succumbing to the cold. It was the bloodiest battle for American forces on the Western Front\, with 20\,000 killed and tens of thousands wounded\, missing\, or captured. Despite initial German advances creating a “bulge” in the Allied lines\, the offensive was repelled after fierce fighting\, aided by clearing weather on Christmas Day that allowed Allied airstrikes. The battle ended in an Allied victory\, depleting German resources and hastening the collapse of Adolf Hitler’s Third Reich. \nLearn More: \n\nCasualty Report: Defense Casualty Analysis System\nBattle of the Bulge: History.com\nBattle of the Bulge Memorial: Arlington National Cemetery\nFirsthand Accounts: American Veterans Center\nBattle of the Bulge Heroes: National Veterans Memorial Museum\n80 Year Reflection (2024): Health.mil\nBattle of the Bulge: Wikipedia Entry\nBattle of the Bulge: Army.mil\nIrving Locker Firsthand Account: American Veterans Center\n80 Year Reflection (2024): AFN News\, DVIDS\, U.S. DoD\nBattle of the Bulge (Video): History.com\nRoberta Nolan\, Daughter of James O’Boyle Lyons\n\nSupport is Available\nReflecting on significant moments in U.S. history can evoke strong emotions. If you or someone you know is feeling lonely or facing challenges with mental health\, housing\, employment\, transportation\, healthcare\, veteran benefits\, family issues or any other situation\, we’re here to help. Call the Be Connected support line for service members\, veterans\, and their families at 866-4AZ-VETS (866-429-8387)\, available Monday through Friday\, 8 AM to 5 PM MT. For urgent mental health crises\, contact the Veterans Crisis Line by dialing 9-8-8 (veterans – press 1) or text 838255\, and for life-threatening emergencies\, call 9-1-1. This information is provided as a public service and is not intended to replace advice or care from licensed professional providers.
URL:https://connectveterans.org/event/battle-of-the-bulge-4/
CATEGORIES:History
END:VEVENT
BEGIN:VEVENT
DTSTART;VALUE=DATE:20281220
DTEND;VALUE=DATE:20281221
DTSTAMP:20260423T045844
CREATED:20240905T180649Z
LAST-MODIFIED:20240905T180719Z
UID:13875-1860883200-1860969599@connectveterans.org
SUMMARY:U.S. Space Force Birthday
DESCRIPTION:The United States Space Force was established on December 20\, 2019\, as the sixth branch of the U.S. military. The Space Force’s primary mission is to protect U.S. interests in space and to ensure freedom of operations in the space domain. The Space Force is responsible for developing\, acquiring\, and operating military space systems\, including communications\, navigation\, surveillance\, and missile warning satellites. The Space Force also conducts a range of operations\, including space-based missile defense\, offensive space operations\, and space situational awareness. The significance of the Space Force lies in its recognition of the critical importance of space to national security and the need for this highly specialized and advanced military organization that plays a critical role in ensuring America’s continued dominance in space.
URL:https://connectveterans.org/event/u-s-space-force-birthday-6/
CATEGORIES:Holiday
END:VEVENT
END:VCALENDAR