BEGIN:VCALENDAR
VERSION:2.0
PRODID:-//Be Connected - ECPv6.15.20//NONSGML v1.0//EN
CALSCALE:GREGORIAN
METHOD:PUBLISH
X-WR-CALNAME:Be Connected
X-ORIGINAL-URL:https://connectveterans.org
X-WR-CALDESC:Events for Be Connected
REFRESH-INTERVAL;VALUE=DURATION:PT1H
X-Robots-Tag:noindex
X-PUBLISHED-TTL:PT1H
BEGIN:VTIMEZONE
TZID:America/Phoenix
BEGIN:STANDARD
TZOFFSETFROM:-0700
TZOFFSETTO:-0700
TZNAME:MST
DTSTART:20250101T000000
END:STANDARD
END:VTIMEZONE
BEGIN:VEVENT
DTSTART;TZID=America/Phoenix:20260325T090000
DTEND;TZID=America/Phoenix:20260325T140000
DTSTAMP:20260423T043700
CREATED:20251214T011315Z
LAST-MODIFIED:20251214T011403Z
UID:18979-1774429200-1774447200@connectveterans.org
SUMMARY:Verde Valley Veteran StandDown
DESCRIPTION:Verde Valley Veteran StandDown\nMarch 25\, 2026\n9:00 AM – 2:00 PM\nCliff Castle Conference Center\n555 W Middle Verde Rd\nCamp Verde\, AZ 86322 \nThe 5th Annual Verde Valley Veteran StandDown offers a welcoming space for veterans to access essential services\, connect with local resources\, and engage with organizations dedicated to veteran well-being. \nBy offering multiple resources in a single setting\, StandDowns help reduce barriers and make it easier for veterans to find the support they need. Veterans are encouraged to attend and connect with other veterans\, community leaders\, and helpful resources\, including. \n\nEmployment\nHealthcare and mental wellness\nHousing\nLegal support\nPet services\nVeteran benefits & much more
URL:https://connectveterans.org/event/verde-valley-veteran-standdown-2/
LOCATION:555 W. Middle Verde Road\, 555 W. Middle Verde Road\, Camp Verde\, AZ\, 86322
CATEGORIES:StandDown
END:VEVENT
END:VCALENDAR