BEGIN:VCALENDAR
VERSION:2.0
PRODID:-//Be Connected - ECPv6.15.20//NONSGML v1.0//EN
CALSCALE:GREGORIAN
METHOD:PUBLISH
X-ORIGINAL-URL:https://connectveterans.org
X-WR-CALDESC:Events for Be Connected
REFRESH-INTERVAL;VALUE=DURATION:PT1H
X-Robots-Tag:noindex
X-PUBLISHED-TTL:PT1H
BEGIN:VTIMEZONE
TZID:America/Phoenix
BEGIN:STANDARD
TZOFFSETFROM:-0700
TZOFFSETTO:-0700
TZNAME:MST
DTSTART:20250101T000000
END:STANDARD
END:VTIMEZONE
BEGIN:VEVENT
DTSTART;TZID=America/Phoenix:20260320T090000
DTEND;TZID=America/Phoenix:20260320T140000
DTSTAMP:20260423T033440
CREATED:20260306T231827Z
LAST-MODIFIED:20260307T011117Z
UID:19493-1773997200-1774015200@connectveterans.org
SUMMARY:Gila Valley Veteran Services StandDown
DESCRIPTION:Gila Valley StandDown \nDATE: Friday\, March 20\, 2026\nTIME: 9 a.m. – 2 p.m.\nView the Flyer \nPLACE: Graham County Fairgrounds | Agriculture Building \nEvent Details:\nThe Gila Valley StandDown is a fantastic way for veterans to access a variety of resources all in one place. Veterans are encouraged to attend and connect with other veterans\, community leaders\, and helpful resources. \nAvailable services and support include: \n\nVeteran Benefits\nHousing\nHealth & Dental\nPet Services\nHomeless Services\nLegal Support\nBehavioral Services\nSubstance Abuse Support\nJob Opportunities\n\nAdmission: Free and open to all veterans. Lunch is provided. \nWhy Attend:\nThis event honors veterans and provides direct connections to resources that can make a difference in daily life. Whether you’re seeking veteran benefits\, employment opportunities\, housing\, or community connection\, the Parker Veteran StandDown brings it all together in one place.
URL:https://connectveterans.org/event/gila-valley-standdown/
LOCATION:Graham County Fairgrounds\, 527 Armory Road\, Safford\, AZ\, 85546
CATEGORIES:StandDown
ATTACH;FMTTYPE=image/png:https://connectveterans.org/wp-content/uploads/2025/05/Veteran-StandDown.webp
END:VEVENT
END:VCALENDAR