BEGIN:VCALENDAR
VERSION:2.0
PRODID:-//Be Connected - ECPv6.15.20//NONSGML v1.0//EN
CALSCALE:GREGORIAN
METHOD:PUBLISH
X-WR-CALNAME:Be Connected
X-ORIGINAL-URL:https://connectveterans.org
X-WR-CALDESC:Events for Be Connected
REFRESH-INTERVAL;VALUE=DURATION:PT1H
X-Robots-Tag:noindex
X-PUBLISHED-TTL:PT1H
BEGIN:VTIMEZONE
TZID:America/Phoenix
BEGIN:STANDARD
TZOFFSETFROM:-0700
TZOFFSETTO:-0700
TZNAME:MST
DTSTART:20230101T000000
END:STANDARD
END:VTIMEZONE
BEGIN:VEVENT
DTSTART;TZID=America/Phoenix:20241024T100000
DTEND;TZID=America/Phoenix:20241024T150000
DTSTAMP:20260420T053025
CREATED:20241013T175116Z
LAST-MODIFIED:20241013T175509Z
UID:14119-1729764000-1729782000@connectveterans.org
SUMMARY:Hopi Veteran StandDown
DESCRIPTION:When: Thu. Oct 24\, 2024\, 10:00 am – 3:00 pm MT\nWhere: Hopi Veterans Memorial Center\nState Hwy 264 Mile Marker 375\nKykotsmovi Village\, AZ \nVIEW THE EVENT FLYER \nThis event will provide veterans and their Family members the following on-site access\, information and resources from VA\, Veteran related programs and non-profit organizations:\n· VA Health Care programs\n· VA benefits\, compensation & disability claims and PACT Act\n· VA Native American Direct Loan and VA Supportive Housing\n· ADVS Assistance and AZ Food Bank Resources\n· Substance Abuse and Mental Health programs\n· Assisted Living programs and Elderly Services\n· Workforce and Educational programs\n· Updated listing of service programs will be shared \nFor questions or additional information\, call Hopi Veterans Services at (928) 734-3461 or e-mail ETalas@hopi.nsn.us \n 
URL:https://connectveterans.org/event/hopi-veteran-standdown/
LOCATION:Hopi Veterans Memorial Center\, State Highway 264 Mile Marker 375\, Kykotsmovi Village\, AZ
CATEGORIES:Partner Event,StandDown
END:VEVENT
END:VCALENDAR