BEGIN:VCALENDAR
VERSION:2.0
PRODID:-//Be Connected - ECPv6.15.20//NONSGML v1.0//EN
CALSCALE:GREGORIAN
METHOD:PUBLISH
X-ORIGINAL-URL:https://connectveterans.org
X-WR-CALDESC:Events for Be Connected
REFRESH-INTERVAL;VALUE=DURATION:PT1H
X-Robots-Tag:noindex
X-PUBLISHED-TTL:PT1H
BEGIN:VTIMEZONE
TZID:America/Phoenix
BEGIN:STANDARD
TZOFFSETFROM:-0700
TZOFFSETTO:-0700
TZNAME:MST
DTSTART:20240101T000000
END:STANDARD
END:VTIMEZONE
BEGIN:VEVENT
DTSTART;VALUE=DATE:20251001
DTEND;VALUE=DATE:20251101
DTSTAMP:20260422T053909
CREATED:20240505T202609Z
LAST-MODIFIED:20240505T202609Z
UID:11127-1759276800-1761955199@connectveterans.org
SUMMARY:Coaching into Connection
DESCRIPTION:Coaching into Connection Services Available for AZ Service Members\, Veterans & Their Families \nIf you’re a service member\, veteran\, or military family member in Arizona\, the Be Connected Coaching into Connection program is here to help you enhance your social connections. Our experienced Connection Coaches\, who are veterans living right here in Arizona\, can help. They offer personalized support to get you connected with your community and find meaningful activities. Services are offered at no cost and are available statewide. Remember\, we’re here to support you. \n\nDownload the Flyer\nGet Started: Fill Out This Form\nWatch the Video\n\nLearn more at www.ConnectVeterans.org/Connection \nHave Questions? Call 866-4AZ-VETS (866-429-8387) or email riskreduction@arizonacoalition.org
URL:https://connectveterans.org/event/coaching-into-connection-22/
LOCATION:AZ
ATTACH;FMTTYPE=image/png:https://connectveterans.org/wp-content/uploads/2024/05/CIC-Veterans.png
END:VEVENT
BEGIN:VEVENT
DTSTART;TZID=America/Phoenix:20251018T100000
DTEND;TZID=America/Phoenix:20251018T140000
DTSTAMP:20260422T053909
CREATED:20250912T021634Z
LAST-MODIFIED:20250912T021759Z
UID:18384-1760781600-1760796000@connectveterans.org
SUMMARY:Lake Havasu City Veteran StandDown
DESCRIPTION:Lake Havasu City Veteran StandDown\nDATE: Saturday\, October 18\, 2025\nLOCATION: Aquatic Center | Relics and Rods Hall\, 100 Park Avenue\, Lake Havasu City \nTIME: 10 a.m. to 2 p.m. \n\nFree Coffee and donuts\nLunch provided\nTransportation is available. Call 928-230-0392\n\nVIEW THE FLYER \nVeteran StandDown events are a fantastic way for veterans to access a variety of resources all in one place. Veterans are encouraged to attend and connect with other veterans\, community leaders\, and helpful resources. \nAvailable Services Include: \n\nEmployment services and job search information\nHealthcare screenings\, wound care\, stroke/chronic pain/COPD support\nFood support\nLegal assistance\nSuicide prevention support\nHousing support services\nVA benefit assistance\nClothing assistance\nHaircuts\n\nFor more information\, call 928-230-0392.
URL:https://connectveterans.org/event/lake-havasu-city-veteran-standdown-2/
LOCATION:100 Park Avenue\, 100 Park Avenue\, Lake Havasu City\, AZ\, 86403
CATEGORIES:StandDown
ATTACH;FMTTYPE=image/png:https://connectveterans.org/wp-content/uploads/2025/05/Veteran-StandDown.webp
END:VEVENT
END:VCALENDAR