BEGIN:VCALENDAR
VERSION:2.0
PRODID:-//Be Connected - ECPv6.15.20//NONSGML v1.0//EN
CALSCALE:GREGORIAN
METHOD:PUBLISH
X-WR-CALNAME:Be Connected
X-ORIGINAL-URL:https://connectveterans.org
X-WR-CALDESC:Events for Be Connected
REFRESH-INTERVAL;VALUE=DURATION:PT1H
X-Robots-Tag:noindex
X-PUBLISHED-TTL:PT1H
BEGIN:VTIMEZONE
TZID:America/Phoenix
BEGIN:STANDARD
TZOFFSETFROM:-0700
TZOFFSETTO:-0700
TZNAME:MST
DTSTART:20220101T000000
END:STANDARD
END:VTIMEZONE
BEGIN:VEVENT
DTSTART;VALUE=DATE:20231101
DTEND;VALUE=DATE:20231201
DTSTAMP:20260422T042958
CREATED:20230117T075513Z
LAST-MODIFIED:20230117T075513Z
UID:7929-1698796800-1701388799@connectveterans.org
SUMMARY:Community Helper Training
DESCRIPTION:Become a Pillar of Support in Your Community \nWe invite you to join us for the Be Connected Community Corps training series. This self-paced virtual training is offered at no cost to any Arizonan interested in becoming a source of support for service members\, veterans\, and their families. You can enroll and start this training series at any time! \n  \nMake a Difference \nBy taking the Be Connected Community Corps Helper Training\, you can strengthen your ability to give back to all who are serving and have served our country. As a trained Be Connected Community Corps Helper\, you will be a guidepost for service members\, veterans\, and their families in your neighborhood\, helping to make them feel connected and cared for. As a Community Helper\, you will be equipped with the knowledge\, skills\, and confidence to make a difference in the lives of Arizona’s military and veteran community. \n  \nAbout the Training  \nThe training series consists of 10 modules that relate to the Social Determinants of Health. Each module includes a video full of helpful information as well as a handout with key points and space to take your own notes. There will be an opportunity to ask questions and engage with our moderator and other course participants in the online community. At the conclusion of the training series\, you will earn the Be Connected Community Corps Certificate and be connected to a wide variety of opportunities to serve Arizona’s service members\, veterans\, and their families. \n  \nLearn more about the Be Connected Community Corps Community Helper training series at www.ConnectVeterans.org/BCCCHelper \nSign up now at https://bit.ly/BCCCHelper
URL:https://connectveterans.org/event/community-helper-training-10/
LOCATION:AZ
CATEGORIES:BCCC
ATTACH;FMTTYPE=image/png:https://connectveterans.org/wp-content/uploads/2023/01/BCCC-Helper-Thumb-1.png
END:VEVENT
BEGIN:VEVENT
DTSTART;VALUE=DATE:20231101
DTEND;VALUE=DATE:20231201
DTSTAMP:20260422T042958
CREATED:20230228T044738Z
LAST-MODIFIED:20230228T044738Z
UID:8561-1698796800-1701388799@connectveterans.org
SUMMARY:Military Caregiver Month
DESCRIPTION:Military Caregivers Month is observed during the month of November to honor and recognize the contributions of military caregivers. November is also National Family Caregivers Month\, a similar observation that honors and recognizes the contributions of caregivers and raises awareness of the challenges they face. Military caregivers are individuals who provide care and support for wounded\, ill or injured service members and veterans. The month-long observance works to raise awareness of the unique challenges that military caregivers face and to show appreciation for their vital role in supporting the health and well-being of those who have served our country. The significance of Military Caregivers Month lies in its recognition of the sacrifices and resilience of military caregivers\, as well as the need to provide them with resources and support to help them cope with the challenges of caregiving. The month is marked by events and activities that aim to honor and support military caregivers\, provide education and resources for them\, and promote advocacy on their behalf. It is an opportunity to show gratitude and support for the essential work that military caregivers do\, and to advocate for policies and initiatives that support their well-being and the well-being of those they care for.
URL:https://connectveterans.org/event/military-caregiver-month/
LOCATION:AZ
CATEGORIES:Holiday
END:VEVENT
BEGIN:VEVENT
DTSTART;VALUE=DATE:20231101
DTEND;VALUE=DATE:20231201
DTSTAMP:20260422T042958
CREATED:20230228T045113Z
LAST-MODIFIED:20230228T045113Z
UID:8567-1698796800-1701388799@connectveterans.org
SUMMARY:Military Family Month
DESCRIPTION:Military Family Month is observed during the month of November to honor and recognize the sacrifices and contributions of military families. The observance serves to raise awareness of the unique challenges that military families face and to show appreciation for their resilience and dedication. Military families often make significant sacrifices in support of their service member\, including frequent relocations\, long separations\, and challenges related to military life. The significance of Military Family Month lies in its recognition of the sacrifices and contributions of military families\, as well as the need to provide them with support and resources to help them thrive. The month is marked by events and activities that aim to honor and support military families\, provide education and resources for them\, and promote advocacy on their behalf. It is an opportunity to show gratitude and support for the essential work that military families do\, and to advocate for policies and initiatives that support their well-being and the well-being of their service member.
URL:https://connectveterans.org/event/military-family-month/
LOCATION:AZ
CATEGORIES:Holiday
END:VEVENT
BEGIN:VEVENT
DTSTART;VALUE=DATE:20231101
DTEND;VALUE=DATE:20231201
DTSTAMP:20260422T042958
CREATED:20230228T045453Z
LAST-MODIFIED:20230228T045453Z
UID:8573-1698796800-1701388799@connectveterans.org
SUMMARY:Warrior Care Month
DESCRIPTION:Warrior Care Month is an annual observance in November that honors and recognizes the sacrifices of the wounded\, ill\, and injured service members and their families. It is a time to raise awareness of the challenges that these individuals and families face and to show appreciation for their strength\, resilience\, and commitment to service. The month also highlights the importance of providing comprehensive support and care to these individuals to help them heal\, recover\, and reintegrate into their communities. Warrior Care Month is a reminder that we have a responsibility to take care of those who have sacrificed so much for our country.
URL:https://connectveterans.org/event/warrior-care-month/
LOCATION:AZ
CATEGORIES:Holiday
END:VEVENT
BEGIN:VEVENT
DTSTART;VALUE=DATE:20231101
DTEND;VALUE=DATE:20231201
DTSTAMP:20260422T042958
CREATED:20231023T155144Z
LAST-MODIFIED:20231023T155144Z
UID:9763-1698796800-1701388799@connectveterans.org
SUMMARY:Arizona Veteran Survey
DESCRIPTION:The statewide Arizona Veteran Survey is open to all service members\, veterans\, their family members\, and community supporters. We encourage you to invest 10 minutes to take the survey and share your thoughts. Your responses will help guide future decisions for programs\, services\, and resources offered by the Arizona Coalition for Military Families. Your confidential responses will help strengthen the care and support provided to service members\, veterans\, and their families throughout Arizona.  \nPlease START the survey\, FINISH the survey\, and SHARE the survey link with your network and community.  \nTake the survey and learn more at www.ConnectVeterans.org/Survey or call the Be Connected Support Line at 866-4AZ-VETS (866-429-8387).
URL:https://connectveterans.org/event/arizona-veteran-survey/
LOCATION:AZ
ATTACH;FMTTYPE=image/png:https://connectveterans.org/wp-content/uploads/2023/10/Survey-P10-1.png
END:VEVENT
END:VCALENDAR