BEGIN:VCALENDAR
VERSION:2.0
PRODID:-//Be Connected - ECPv6.15.20//NONSGML v1.0//EN
CALSCALE:GREGORIAN
METHOD:PUBLISH
X-ORIGINAL-URL:https://connectveterans.org
X-WR-CALDESC:Events for Be Connected
REFRESH-INTERVAL;VALUE=DURATION:PT1H
X-Robots-Tag:noindex
X-PUBLISHED-TTL:PT1H
BEGIN:VTIMEZONE
TZID:America/Phoenix
BEGIN:STANDARD
TZOFFSETFROM:-0700
TZOFFSETTO:-0700
TZNAME:MST
DTSTART:20220101T000000
END:STANDARD
END:VTIMEZONE
BEGIN:VEVENT
DTSTART;VALUE=DATE:20230801
DTEND;VALUE=DATE:20230901
DTSTAMP:20260424T085951
CREATED:20230117T074857Z
LAST-MODIFIED:20230117T074943Z
UID:7922-1690848000-1693526399@connectveterans.org
SUMMARY:Community Helper Training
DESCRIPTION:Become a Pillar of Support in Your Community \nWe invite you to join us for the Be Connected Community Corps training series. This self-paced virtual training is offered at no cost to any Arizonan interested in becoming a source of support for service members\, veterans\, and their families. You can enroll and start this training series at any time! \n  \nMake a Difference \nBy taking the Be Connected Community Corps Helper Training\, you can strengthen your ability to give back to all who are serving and have served our country. As a trained Be Connected Community Corps Helper\, you will be a guidepost for service members\, veterans\, and their families in your neighborhood\, helping to make them feel connected and cared for. As a Community Helper\, you will be equipped with the knowledge\, skills\, and confidence to make a difference in the lives of Arizona’s military and veteran community. \n  \nAbout the Training  \nThe training series consists of 10 modules that relate to the Social Determinants of Health. Each module includes a video full of helpful information as well as a handout with key points and space to take your own notes. There will be an opportunity to ask questions and engage with our moderator and other course participants in the online community. At the conclusion of the training series\, you will earn the Be Connected Community Corps Certificate and be connected to a wide variety of opportunities to serve Arizona’s service members\, veterans\, and their families. \n  \nLearn more about the Be Connected Community Corps Community Helper training series at www.ConnectVeterans.org/BCCCHelper \nSign up now at https://bit.ly/BCCCHelper
URL:https://connectveterans.org/event/community-helper-training-7/
LOCATION:AZ
CATEGORIES:BCCC
ATTACH;FMTTYPE=image/png:https://connectveterans.org/wp-content/uploads/2023/01/BCCC-Helper-Thumb-1.png
END:VEVENT
BEGIN:VEVENT
DTSTART;VALUE=DATE:20230819
DTEND;VALUE=DATE:20230820
DTSTAMP:20260424T085951
CREATED:20230724T222026Z
LAST-MODIFIED:20240825T190528Z
UID:9274-1692403200-1692489599@connectveterans.org
SUMMARY:ACMF Birthday
DESCRIPTION:Today we celebrate 14 years since the Arizona Coalition for Military Families was launched on August 19\, 2009. \nThe Arizona Coalition for Military Families (ACMF) is a nationally recognized public/private partnership focused on building Arizona’s statewide capacity to care for\, serve and support service members\, veterans\, their families\, and communities. \n\nLearn more.\nGet involved.\nSave this number: 866-4AZ-VETS\nShare our resources.\nAttend an event.
URL:https://connectveterans.org/event/acmf-14-birthday/
LOCATION:AZ
CATEGORIES:Holiday
ATTACH;FMTTYPE=image/png:https://connectveterans.org/wp-content/uploads/2023/07/14-Years.png
END:VEVENT
BEGIN:VEVENT
DTSTART;TZID=America/Phoenix:20230819T100000
DTEND;TZID=America/Phoenix:20230819T150000
DTSTAMP:20260424T085951
CREATED:20230204T233759Z
LAST-MODIFIED:20230505T021254Z
UID:8227-1692439200-1692457200@connectveterans.org
SUMMARY:Veteran StandDown – Payson
DESCRIPTION:Rim Country (Payson) StandDown \n​Greater Payson Moose Lodge #852\n​4211 E Hwy 260\nStar Valley\, AZ 85541\nAugust 19\, 2023\n10:00 am – 3:00 pm\n>>>View the event flyer \nVeteran StandDown events are a great way for veterans to access a variety of resources all in one place. Veterans are encouraged to attend to connect with other veterans\, community leaders\, and resources. \nWhile each event is tailored to the needs of the local community\, Veteran StandDown events typically offer resources related to: \n\nHealthcare and mental wellness\nVA benefits\nHousing resources\nLegal resources\nEmployment resources\nPet services\n\nFor more information on the Arizona Veteran StandDown Alliance\, visit https://www.azhousingcoalition.org/avsa.html
URL:https://connectveterans.org/event/veteran-standdown-payson/
LOCATION:AZ
CATEGORIES:StandDown
ATTACH;FMTTYPE=image/png:https://connectveterans.org/wp-content/uploads/2023/02/Veteran-Stand-Down.png
END:VEVENT
END:VCALENDAR