BEGIN:VCALENDAR
VERSION:2.0
PRODID:-//Be Connected - ECPv6.15.20//NONSGML v1.0//EN
CALSCALE:GREGORIAN
METHOD:PUBLISH
X-ORIGINAL-URL:https://connectveterans.org
X-WR-CALDESC:Events for Be Connected
REFRESH-INTERVAL;VALUE=DURATION:PT1H
X-Robots-Tag:noindex
X-PUBLISHED-TTL:PT1H
BEGIN:VTIMEZONE
TZID:America/Phoenix
BEGIN:STANDARD
TZOFFSETFROM:-0700
TZOFFSETTO:-0700
TZNAME:MST
DTSTART:20220101T000000
END:STANDARD
END:VTIMEZONE
BEGIN:VEVENT
DTSTART;VALUE=DATE:20230801
DTEND;VALUE=DATE:20230901
DTSTAMP:20260424T100255
CREATED:20230117T074857Z
LAST-MODIFIED:20230117T074943Z
UID:7922-1690848000-1693526399@connectveterans.org
SUMMARY:Community Helper Training
DESCRIPTION:Become a Pillar of Support in Your Community \nWe invite you to join us for the Be Connected Community Corps training series. This self-paced virtual training is offered at no cost to any Arizonan interested in becoming a source of support for service members\, veterans\, and their families. You can enroll and start this training series at any time! \n  \nMake a Difference \nBy taking the Be Connected Community Corps Helper Training\, you can strengthen your ability to give back to all who are serving and have served our country. As a trained Be Connected Community Corps Helper\, you will be a guidepost for service members\, veterans\, and their families in your neighborhood\, helping to make them feel connected and cared for. As a Community Helper\, you will be equipped with the knowledge\, skills\, and confidence to make a difference in the lives of Arizona’s military and veteran community. \n  \nAbout the Training  \nThe training series consists of 10 modules that relate to the Social Determinants of Health. Each module includes a video full of helpful information as well as a handout with key points and space to take your own notes. There will be an opportunity to ask questions and engage with our moderator and other course participants in the online community. At the conclusion of the training series\, you will earn the Be Connected Community Corps Certificate and be connected to a wide variety of opportunities to serve Arizona’s service members\, veterans\, and their families. \n  \nLearn more about the Be Connected Community Corps Community Helper training series at www.ConnectVeterans.org/BCCCHelper \nSign up now at https://bit.ly/BCCCHelper
URL:https://connectveterans.org/event/community-helper-training-7/
LOCATION:AZ
CATEGORIES:BCCC
ATTACH;FMTTYPE=image/png:https://connectveterans.org/wp-content/uploads/2023/01/BCCC-Helper-Thumb-1.png
END:VEVENT
BEGIN:VEVENT
DTSTART;TZID=America/Phoenix:20230818T090000
DTEND;TZID=America/Phoenix:20230818T140000
DTSTAMP:20260424T100255
CREATED:20230724T235945Z
LAST-MODIFIED:20230730T223255Z
UID:9300-1692349200-1692367200@connectveterans.org
SUMMARY:Veteran StandDown: Cochise County
DESCRIPTION:Cochise County Veteran StandDown\nAugust 18\, 2023\n9:00 AM – 2:00 PM\nEthel Berger Center\n2950 E. Tacoma St.\, Sierra Vista\nStandDown events are a great way for veterans to access a variety of resources all in one place. Veterans are encouraged to attend this event to connect with other veterans\, community leaders\, and resources. \nAll veterans are invited to attend and access:\n• Benefit Assistance\n• Mental Health Services\n• Picture ID Services\n• Haircuts\n• Housing Assistance\n• Clothing Assistance\n• Legal Assistance\n• Personal Care Supplies\n• Employment Resources\nFor a complete listing of services\, view the event flyer. \nFor more information on other upcoming StandDown events and the Arizona Veteran StandDown Alliance\, visit https://www.azhousingcoalition.org/avsa.html
URL:https://connectveterans.org/event/veteran-standdown-cochise-county/
LOCATION:2950 E. Tacoma St\, 2950 E. Tacoma St\, Sierra Vista\, AZ\, 85635
CATEGORIES:Partner Event
ATTACH;FMTTYPE=image/png:https://connectveterans.org/wp-content/uploads/2023/02/Veteran-Stand-Down.png
END:VEVENT
BEGIN:VEVENT
DTSTART;TZID=America/Phoenix:20230818T100000
DTEND;TZID=America/Phoenix:20230818T113000
DTSTAMP:20260424T100255
CREATED:20230108T001822Z
LAST-MODIFIED:20230108T001822Z
UID:7785-1692352800-1692358200@connectveterans.org
SUMMARY:Arizona Veteran Supportive Campus: Military Culture Training
DESCRIPTION:This training is provided at no cost for the employees\, staff\, faculty\, and leadership of colleges\, technical schools\, universities\, and other higher education organizations that have earned or are working to earn the Arizona Veteran Supportive Campus (AVSC) designation from the Arizona Department of Veterans’ Services. Staff and faculty of current and prospective Arizona Veteran Supportive Campuses are invited to participate in this no-cost\, virtual training focused on military/veteran culture and related topics to best support military-affiliated students. The training course is offered three times in 2023: \n\nFriday\, January 20\, 2023\, from 10 – 11:30 a.m.\nFriday\, August 18\, 2023\, from 10 – 11:30 a.m.\nFriday\, October 20\, 2023\, from 10 – 11:30 a.m.\n\nTo sign up\, visit: https://bit.ly/AVSC2023 \nFor questions or more information\, email Community@ArizonaCoalition.org
URL:https://connectveterans.org/event/arizona-veteran-supportive-campus-military-culture-training-2/
LOCATION:AZ
CATEGORIES:AVSC
ATTACH;FMTTYPE=image/png:https://connectveterans.org/wp-content/uploads/2023/01/AVSC-Still-2.png
END:VEVENT
END:VCALENDAR