BEGIN:VCALENDAR
VERSION:2.0
PRODID:-//Be Connected - ECPv6.15.20//NONSGML v1.0//EN
CALSCALE:GREGORIAN
METHOD:PUBLISH
X-ORIGINAL-URL:https://connectveterans.org
X-WR-CALDESC:Events for Be Connected
REFRESH-INTERVAL;VALUE=DURATION:PT1H
X-Robots-Tag:noindex
X-PUBLISHED-TTL:PT1H
BEGIN:VTIMEZONE
TZID:America/Phoenix
BEGIN:STANDARD
TZOFFSETFROM:-0700
TZOFFSETTO:-0700
TZNAME:MST
DTSTART:20210101T000000
END:STANDARD
END:VTIMEZONE
BEGIN:VEVENT
DTSTART;VALUE=DATE:20221001
DTEND;VALUE=DATE:20221203
DTSTAMP:20260419T051706
CREATED:20221001T042923Z
LAST-MODIFIED:20221001T043133Z
UID:7099-1664582400-1670025599@connectveterans.org
SUMMARY:Understanding the Military Experience Training Courses
DESCRIPTION:Understanding the Military Experience Training\nThe Arizona Coalition for Military Families is proud to announce a partnership with Purdue University’s Military Family Research Institute\, the Center for Deployment Psychology Uniformed Services University\, and the National Guard. \nTogether\, we’re offering an opportunity to participate in a three-tiered virtual training experience through Zoom available to anyone who would like to gain a better understanding of the experiences of service members\, veterans\, and their families. Each training builds on the one before\, and the three tiers must be taken sequentially. \n  \nDownload the Course List & Schedule\nRegister Now\n\nThe Tier 1 “Introduction to Military Culture and Deployment” course is a one-day event and is offered on 10/31 & 11/14\nThe Tier 2 “Overview of Behavioral Health Challenges Related to Military Service” course is a two-day event and is offered 11/17 – 11/18 & 12/1 – 12/2\nThe “Intimate Partner Violence” course is a 2-hour course offered on 11/4.\nThere and two Tier 3 courses. The “Cognitive Behavioral Therapy for Insomnia” course is a two-day event offered 10/27 – 10/28. The “Prolonged Exposure Therapy for PTSD” course is offered 11/9 – 11/10.
URL:https://connectveterans.org/event/military-experience-training/
LOCATION:AZ
CATEGORIES:Partner Event,Virtual Event
ATTACH;FMTTYPE=image/png:https://connectveterans.org/wp-content/uploads/2022/09/Training-3.png
END:VEVENT
BEGIN:VEVENT
DTSTART;VALUE=DATE:20221007
DTEND;VALUE=DATE:20221010
DTSTAMP:20260419T051706
CREATED:20220912T051243Z
LAST-MODIFIED:20220912T051411Z
UID:6753-1665100800-1665359999@connectveterans.org
SUMMARY:Veteran Retreat: Healing of Memories
DESCRIPTION:Healing of Memories: A Retreat Exclusively for Veterans Created by Fr. Michael Lapsley\nOctober 7 – 9\, 2022\nAll veterans are welcome and there is no cost for this event. \nThe Healing of Memories Retreat is a response to the emotional\, psychological and spiritual wounds inflicted by war\, human rights abuses and other traumatic circumstances\, and is a major step that helps Veterans begin the healing journey. It provides a safe place for participants to explore personal histories and gain insight and empathy for themselves and others. \nIf you are a Veteran and would like to attend\, please call Mike Wold at 651.687.9767 \nPDF Flyer
URL:https://connectveterans.org/event/veteran-retreat-healing-of-memories/
LOCATION:AZ
CATEGORIES:Partner Event
ATTACH;FMTTYPE=image/png:https://connectveterans.org/wp-content/uploads/2022/09/FRC-HOM-Flyer-color-oct-2022-Final-PNG.png
END:VEVENT
BEGIN:VEVENT
DTSTART;TZID=America/Phoenix:20221008T100000
DTEND;TZID=America/Phoenix:20221008T143000
DTSTAMP:20260419T051706
CREATED:20220927T011126Z
LAST-MODIFIED:20220927T011126Z
UID:7029-1665223200-1665239400@connectveterans.org
SUMMARY:2022 Military/Veteran Women’s Experience – Flagstaff
DESCRIPTION:2022 Military/Veteran Women’s Experience – Flagstaff\nREGISTER AT: https://bit.ly/FlagstaffMVWE \nThe Arizona Department of Veterans’ Services is pleased to bring the 2022 Arizona Military/Veteran Women’s Experience to Flagstaff! \nSat\, October 8\, 2022\, 10:00 AM – 2:30 PM MST\nArizona State Veteran Home – Flagstaff 2100 North Gemini Road Flagstaff\, AZ 86004 \nCome join your fellow women Veterans and service members for a NO-COST day of: \n\nRaffle Prizes\nInteractive Activities\nVeteran Benefits\nResources\nNetworking\n\nYou will also have the opportunity to; \n\nAttend an all levels fitness class\nEnjoy BREAKFAST and LUNCH\nMake your own body scrub\nGarden with ADVS Director Wanda Wright\nAttend a VA Claims Workshop\n\nAll of this plus CHILD CARE at NO COST to you! \nBreakfast and registration begin at 10:00 am. Pre-registration is requested.\nThis one-day event is designed for women Veterans and service members ONLY. \nChildcare will be provided for those who bring children who are potty trained. Meals and activities will be provided. \nIf you are looking to participate in the fitness classes please be sure to dress comfy! \nIf you would like to be an exhibitor please register at: https://2022MVWEFlagstaffExhibitors.eventbrite.com \nFor questions or concerns\, email: azwomenvets@azdvs.gov
URL:https://connectveterans.org/event/2022-military-veteran-womens-experience-flagstaff/
LOCATION:2100 North Gemini Road\, 2100 North Gemini Road\, Flagstaff\, 86004\, United States
CATEGORIES:Partner Event
ATTACH;FMTTYPE=image/jpeg:https://connectveterans.org/wp-content/uploads/2022/09/Flag-1.jpg
END:VEVENT
END:VCALENDAR